BEGIN:VCALENDAR
VERSION:2.0
PRODID:-//taunus4family - ECPv5.14.1//NONSGML v1.0//EN
CALSCALE:GREGORIAN
METHOD:PUBLISH
X-WR-CALNAME:taunus4family
X-ORIGINAL-URL:https://www.taunus4family.de
X-WR-CALDESC:Veranstaltungen für taunus4family
BEGIN:VTIMEZONE
TZID:Europe/Helsinki
BEGIN:DAYLIGHT
TZOFFSETFROM:+0200
TZOFFSETTO:+0300
TZNAME:EEST
DTSTART:20250330T010000
END:DAYLIGHT
BEGIN:STANDARD
TZOFFSETFROM:+0300
TZOFFSETTO:+0200
TZNAME:EET
DTSTART:20251026T010000
END:STANDARD
END:VTIMEZONE
BEGIN:VEVENT
DTSTART;TZID=Europe/Helsinki:20251003T110000
DTEND;TZID=Europe/Helsinki:20251005T170000
DTSTAMP:20260422T115556
CREATED:20240926T132112Z
LAST-MODIFIED:20250926T102920Z
UID:49234-1759489200-1759683600@www.taunus4family.de
SUMMARY:Erntefest mit Herbstmarkt im Hessenpark 2024
DESCRIPTION:Das Erntefest im Hessenpark zählt zu den schönsten Traditionen des Freilichtmuseums und lockt Jahr für Jahr zahlreiche Besucherinnen und Besucher an. Seit den Anfängen des Museums wird hier mit stimmungsvollen Ernte- und Handwerksvorführungen\, regionalen Spezialitäten und einem bunten Rahmenprogramm das Ende des Sommers gefeiert. \nVom 3. bis 5. Oktober können Gäste an der Dreschhalle in der Baugruppe Nordhessen eindrucksvoll erleben\, wie historische Maschinen zum Einsatz kommen: Maschinendreschen mit Dreschkasten und Dampfmaschine\, Stiftendrescher und Windfege bringen die Arbeitswelt vergangener Zeiten eindrucksvoll zum Leben. Mehrere mit Garben beladene Leiterwagen werden täglich ausgedroschen\, das Stroh wird weiterverarbeitet und alte Getreidesorten zu Strohseilen verarbeitet\, die früher als preiswerter Seilersatz dienten und heute beliebte Herbstdekoration sind. Auch die kürzlich wiedereröffnete Hofanlage aus Nieder-Gemünden ist erstmals Teil des Erntefests – hier zeigen Museumsmitarbeitende den Einsatz traditioneller Dreschflegel\, während in der Scheune aus Wollmar am Freitag Flachs verarbeitet wird. Wer selbst aktiv werden möchte\, kann bei der Getreidereinigung mit der Windfege mitkurbeln und so hautnah erleben\, wie Spreu und Korn getrennt werden. \nDas Fest lebt nicht nur von historischen Arbeitsweisen\, sondern auch von gelebter Tradition. In den geschmückten Kirchen finden am Samstag und Sonntag Erntedank-Andachten statt\, Kinder können beim Kürbisschnitzen in der Hofanlage aus Sand ihr Geschick beweisen oder bei der Kartoffelernte helfen. Auf dem Gelände begegnet man dem Bauern mit seinem Kuhgespann\, der spannende Einblicke in seinen Arbeitsalltag gibt. Im Backhaus lassen sich historische Hausfrauen über die Schulter schauen und verteilen Kostproben frisch gebackener Spezialitäten. \nZusätzlich lädt der Herbstmarkt in der Baugruppe Nordhessen zum Stöbern ein. Selbstgefertigtes Kunsthandwerk – von Gestricktem und Genähtem über Dekoration für Haus und Garten bis hin zu Schmuck – sorgt für Inspiration\, während regionale Köstlichkeiten wie Käse- und Pilzspezialitäten\, Honig\, Liköre und Marmeladen das Angebot abrunden. \nAuch kulinarisch bleibt kein Wunsch offen: In der Hofanlage aus Sand dampfen frisch geerntete Speisekartoffeln aus dem Hessenpark\, serviert mit Kräuterquark\, Grüner Soße und Eiern\, veganem Kräuter-Limettenschmand oder Heringssalat. Am Grillstand in der Baugruppe Mittelhessen warten Bratwürste im Brötchen und frisch gezapftes Bier auf hungrige Gäste. \nWer das Erntefest im Hessenpark besucht\, erlebt lebendige Geschichte\, traditionelles Handwerk und regionale Genüsse in authentischem Ambiente – ein Ausflug\, der für die ganze Familie unvergesslich bleibt. \nErntefest 3. bis 5. Oktober 2025\, 11 bis 17 Uhr sowie Herbstmarkt\, 9 – 18 Uhr \nEintritt: Erwachsene 11Euro\, Kinder 1 Euro\, Familienkarte 22 Euro \n 
URL:https://www.taunus4family.de/veranstaltung/erntefest-mit-herbstmarkt-im-hessenpark-2025/
LOCATION:Freilichtmuseum Hessenpark GmbH\, Laubweg 5\, Neu-Anspach\, 61267\, Deutschland
CATEGORIES:Feste und Märkte
ATTACH;FMTTYPE=image/jpeg:https://www.taunus4family.de/wp-content/uploads/2024/09/IMG_2988.jpeg
ORGANIZER;CN="Freilichtmuseum%20Hessenpark":MAILTO:service@hessenpark.de
GEO:50.2800386;8.5298025
X-APPLE-STRUCTURED-LOCATION;VALUE=URI;X-ADDRESS=Freilichtmuseum Hessenpark GmbH Laubweg 5 Neu-Anspach 61267 Deutschland;X-APPLE-RADIUS=500;X-TITLE=Laubweg 5:geo:8.5298025,50.2800386
END:VEVENT
END:VCALENDAR