BEGIN:VCALENDAR
VERSION:2.0
PRODID:-//taunus4family - ECPv5.14.1//NONSGML v1.0//EN
CALSCALE:GREGORIAN
METHOD:PUBLISH
X-WR-CALNAME:taunus4family
X-ORIGINAL-URL:https://www.taunus4family.de
X-WR-CALDESC:Veranstaltungen für taunus4family
BEGIN:VTIMEZONE
TZID:Europe/Helsinki
BEGIN:DAYLIGHT
TZOFFSETFROM:+0200
TZOFFSETTO:+0300
TZNAME:EEST
DTSTART:20250330T010000
END:DAYLIGHT
BEGIN:STANDARD
TZOFFSETFROM:+0300
TZOFFSETTO:+0200
TZNAME:EET
DTSTART:20251026T010000
END:STANDARD
END:VTIMEZONE
BEGIN:VEVENT
DTSTART;VALUE=DATE:20250518
DTEND;VALUE=DATE:20250519
DTSTAMP:20260422T052312
CREATED:20250502T143659Z
LAST-MODIFIED:20250502T161358Z
UID:50912-1747526400-1747612799@www.taunus4family.de
SUMMARY:Eröffnung ‚The Eppstein Farm‘
DESCRIPTION:Lernen mit allen Sinnen – mitten in der Natur.Der außerschulische Lernort The Eppstein Farm öffnet seine Türen: Willkommen in unserer Naturschule – dem grünen Klassenzimmer im Herzen des Taunus. \nHier entdecken Kinder die Natur nicht nur mit den Augen\, sondern mit Herz\, Hand und Verstand. In einer Welt\, in der der Bezug zur Umwelt zunehmend verloren geht\, schaffen wir einen Ort der Ruhe\, des Staunens und des selbstbestimmten Lernens. Ein Raum\, in dem junge Menschen entschleunigen\, sich zurückziehen – und durch eigene Erfahrungen echte Naturbildung erleben können. \nDie Philosophie: Lernen durch Erleben.Unser Programm ist darauf ausgerichtet\, Neugier und Forschergeist zu wecken. Ob beim Erkunden des Waldes\, dem Anlegen eines kleinen Nutzgartens oder beim Beobachten der faszinierenden Insektenwelt mit den Farm-Bienen – bei uns steht das unmittelbare\, praktische Erleben im Mittelpunkt. \nMitmachen\, mitgestalten\, mitfühlen.Ob als neugieriger Besucher\, engagierter Unterstützer oder aktives Mitglied – The Eppstein Farm bietet jedem die Möglichkeit\, die eigene Verbindung zur Natur neu zu entdecken \nMehr Info hier!
URL:https://www.taunus4family.de/veranstaltung/eroeffnung-the-eppstein-farm/
CATEGORIES:Natur und Tiere
ATTACH;FMTTYPE=image/jpeg:https://www.taunus4family.de/wp-content/uploads/2025/05/Screenshot-2025-05-02-181207.jpg
ORGANIZER;CN="the%20Eppstein%20project%20GmbH":MAILTO:info@the-eppstein.de
END:VEVENT
END:VCALENDAR