BEGIN:VCALENDAR
VERSION:2.0
PRODID:-//taunus4family - ECPv5.14.1//NONSGML v1.0//EN
CALSCALE:GREGORIAN
METHOD:PUBLISH
X-WR-CALNAME:taunus4family
X-ORIGINAL-URL:https://www.taunus4family.de
X-WR-CALDESC:Veranstaltungen für taunus4family
BEGIN:VTIMEZONE
TZID:Europe/Helsinki
BEGIN:DAYLIGHT
TZOFFSETFROM:+0200
TZOFFSETTO:+0300
TZNAME:EEST
DTSTART:20240331T010000
END:DAYLIGHT
BEGIN:STANDARD
TZOFFSETFROM:+0300
TZOFFSETTO:+0200
TZNAME:EET
DTSTART:20241027T010000
END:STANDARD
END:VTIMEZONE
BEGIN:VEVENT
DTSTART;TZID=Europe/Helsinki:20240831T133000
DTEND;TZID=Europe/Helsinki:20240831T150000
DTSTAMP:20260423T230423
CREATED:20240726T162007Z
LAST-MODIFIED:20240726T162020Z
UID:48793-1725111000-1725116400@www.taunus4family.de
SUMMARY:Escape-Game „Das rätselhafte Tagebuch“ für Kinder im Schloss Bad Homburg
DESCRIPTION:Die Staatlichen Schlösser und Gärten Hessen (SG) veranstalten am Samstag\, den 31. August 2024\, um 13:30 Uhr ein Escape Game für Kinder im Alter von 10 bis 12 Jahren im Schloss Bad Homburg. Bei der Veranstaltung „Das rätselhafte Tagebuch“ des Formats Escape Castle müssen die Kinder den rechtmäßigen Erben des kaiserlichen Schmucks finden. Die Lösung steckt in einem Tagebuch voller Rätsel\, die von den Teilnehmern entschlüsselt werden müssen. Die Veranstaltungen des Formats Escape Castle in den historischen Schlossräumen sind auch für Gruppen buchbar.
URL:https://www.taunus4family.de/veranstaltung/escape-game-das-raetselhafte-tagebuch-fuer-kinder-im-schloss-bad-homburg/
LOCATION:Landgrafenschloss Bad Homburg\, Landgrafenschloss\, Bad Homburg v.d.Höhe\, 61348\, Deutschland
CATEGORIES:Freizeit
ATTACH;FMTTYPE=image/jpeg:https://www.taunus4family.de/wp-content/uploads/2024/07/Screenshot-2024-07-26-181438.jpg
ORGANIZER;CN="Staatlichen%20Schl%C3%B6sser%20und%20G%C3%A4rten%20Hessen":MAILTO:info@schloesser.hessen.de
GEO:50.2282401;8.6104787
X-APPLE-STRUCTURED-LOCATION;VALUE=URI;X-ADDRESS=Landgrafenschloss Bad Homburg Landgrafenschloss Bad Homburg v.d.Höhe 61348 Deutschland;X-APPLE-RADIUS=500;X-TITLE=Landgrafenschloss:geo:8.6104787,50.2282401
END:VEVENT
END:VCALENDAR