BEGIN:VCALENDAR
VERSION:2.0
PRODID:-//taunus4family - ECPv5.14.1//NONSGML v1.0//EN
CALSCALE:GREGORIAN
METHOD:PUBLISH
X-WR-CALNAME:taunus4family
X-ORIGINAL-URL:https://www.taunus4family.de
X-WR-CALDESC:Veranstaltungen für taunus4family
BEGIN:VTIMEZONE
TZID:Europe/Helsinki
BEGIN:DAYLIGHT
TZOFFSETFROM:+0200
TZOFFSETTO:+0300
TZNAME:EEST
DTSTART:20250330T010000
END:DAYLIGHT
BEGIN:STANDARD
TZOFFSETFROM:+0300
TZOFFSETTO:+0200
TZNAME:EET
DTSTART:20251026T010000
END:STANDARD
BEGIN:DAYLIGHT
TZOFFSETFROM:+0200
TZOFFSETTO:+0300
TZNAME:EEST
DTSTART:20260329T010000
END:DAYLIGHT
BEGIN:STANDARD
TZOFFSETFROM:+0300
TZOFFSETTO:+0200
TZNAME:EET
DTSTART:20261025T010000
END:STANDARD
END:VTIMEZONE
BEGIN:VEVENT
DTSTART;VALUE=DATE:20251208
DTEND;VALUE=DATE:20260112
DTSTAMP:20260419T153958
CREATED:20251020T130528Z
LAST-MODIFIED:20251020T131716Z
UID:52504-1765152000-1768175999@www.taunus4family.de
SUMMARY:Eschborner Winterzauber 2025 im Skulpturenpark Niederhöchstadt
DESCRIPTION:Der beliebte „Eschborner Winter“ zieht um! In diesem Jahr verwandelt sich der Skulpturenpark Niederhöchstadt in eine stimmungsvolle Winterlandschaft. Vom 8. Dezember 2025 bis zum 11. Januar 2026 lädt das beliebte Event Groß und Klein zum Eislaufen\, Schlemmen und gemütlichen Beisammensein ein. Zur feierlichen Eröffnung am Montag\, den 8. Dezember um 17:00 Uhr\, wird der neue Standort offiziell eingeweiht. \nNeben der Eisbahn\, auf der Schlittschuhfans ihre Runden drehen können\, sorgt die Winteralm mit Glühwein\, heißen Getränken und winterlichen Leckereien für wohlige Atmosphäre. \nAuch Schulklassen und Kitas können wieder eigene Eisbahnzeiten reservieren – ein besonderes Highlight für die kleinen Besucherinnen und Besucher. Für eine bequeme Anreise stehen zudem kostenlose Parkplätze am Bürgerzentrum zur Verfügung. \nReservierungen werden ab sofort entgegengenommen. Das Eisstockschießen kann per E-Mail unter info@reinigungsservice-eschborn.de oder telefonisch unter 0173/6688536 gebucht werden. In der Almhütte können sieben Tische für je acht Personen gebucht werden. Die Reservierung erfolgt gegen einen Verzehrgutschein von 10 EUR telefonisch unter der Rufnummer 0160/2242318 oder per E-Mail an feuerkopf11@icloud.com. \nEin winterliches Vergnügen für die ganze Familie – mitten im Taunus!
URL:https://www.taunus4family.de/veranstaltung/eschborner-winterzauber-2025-im-skulpturenpark-niederhoechsstadt/
LOCATION:Rathausplatz Eschborn\, Eschborn\, 65760\, Deutschland
CATEGORIES:Freizeit,Sport und Bewegung
ATTACH;FMTTYPE=image/jpeg:https://www.taunus4family.de/wp-content/uploads/2016/12/eislaufen-hofheim-sparkasse-e1587571198482.jpg
ORGANIZER;CN="Helmiss%20Events%20GmbH":MAILTO:info@helmiss.de
END:VEVENT
END:VCALENDAR