BEGIN:VCALENDAR
VERSION:2.0
PRODID:-//taunus4family - ECPv5.14.1//NONSGML v1.0//EN
CALSCALE:GREGORIAN
METHOD:PUBLISH
X-WR-CALNAME:taunus4family
X-ORIGINAL-URL:https://www.taunus4family.de
X-WR-CALDESC:Veranstaltungen für taunus4family
BEGIN:VTIMEZONE
TZID:Europe/Helsinki
BEGIN:DAYLIGHT
TZOFFSETFROM:+0200
TZOFFSETTO:+0300
TZNAME:EEST
DTSTART:20250330T010000
END:DAYLIGHT
BEGIN:STANDARD
TZOFFSETFROM:+0300
TZOFFSETTO:+0200
TZNAME:EET
DTSTART:20251026T010000
END:STANDARD
END:VTIMEZONE
BEGIN:VEVENT
DTSTART;TZID=Europe/Helsinki:20250308T100000
DTEND;TZID=Europe/Helsinki:20250308T123000
DTSTAMP:20260423T055319
CREATED:20250206T060930Z
LAST-MODIFIED:20250206T060930Z
UID:50058-1741428000-1741437000@www.taunus4family.de
SUMMARY:Exklusivmarken-Kindersachen-Basar Frühjahr/Sommer 2025
DESCRIPTION:Exklusivmarken-Basar für Baby- & Kindersachen \nEinlass für Schwangere (nur mit Mutterpass & maximal einer Begleitung) ab 09.30 Uhr. Letzter allgemeiner Einlass um 12.00 Uhr \nSortierter Abgabebasar für exklusive Kinderbekleidung für Frühjahr/Sommer (Gr. 44-188)\, Kinderschuhe und Babyausstattung. Verkauft wird nur Markenbekleidung wie DKNY\, Guess\, Jack Wolfskin\, Moncler\, Name It\, Tom Tailor\, jako-o\, Scotch & Soda\, Timberland\, Petit Bateau\, Sterntaler\, Sigikid\, Mexx\, Esprit etc \nVerkauf von Großteilen\, Spielwaren aller Art\, Medien\, Kinderfahrzeuge aller Art \nInformationen zum Basar: https://familienzentrum-hochheim.de/basare/exklusivmarken-kinderkleider-basar/ \nStart der Nummernvergabe: Samstag\, 15. Februar 2025\, 08.00 Uhr unter https://basarlino.de/QW95 \nBonus für Helferinnen & Helfer: gestaffelte Verkaufs-Provision je nach Anzahl der Helferschichten! \nKein Einlass mit Jacken\, Handtaschen & Rucksäcken größer als DINA5\, Buggy oder Kinderwagen! Leere\, große XXL-Einkaufstaschen sind okay! Bewachte Garderobe ist vorhanden. \nCafeteria mit kalten & warmen Getränken\, Kuchen & Brezel
URL:https://www.taunus4family.de/veranstaltung/exklusivmarken-kindersachen-basar-fruehjahr-sommer-2025/
LOCATION:Georg-Hofmann-Sporthalle\, Massenheimer Landstr. 5-7\, Hochheim/Main\, Hessen\, 65239\, Deutschland
CATEGORIES:Basare und Flohmärkte
ATTACH;FMTTYPE=image/jpeg:https://www.taunus4family.de/wp-content/uploads/2025/01/IMAG7218-scaled.jpg
GEO:50.0186703;8.3592013
X-APPLE-STRUCTURED-LOCATION;VALUE=URI;X-ADDRESS=Georg-Hofmann-Sporthalle Massenheimer Landstr. 5-7 Hochheim/Main Hessen 65239 Deutschland;X-APPLE-RADIUS=500;X-TITLE=Massenheimer Landstr. 5-7:geo:8.3592013,50.0186703
END:VEVENT
END:VCALENDAR