BEGIN:VCALENDAR
VERSION:2.0
PRODID:-//taunus4family - ECPv5.14.1//NONSGML v1.0//EN
CALSCALE:GREGORIAN
METHOD:PUBLISH
X-WR-CALNAME:taunus4family
X-ORIGINAL-URL:https://www.taunus4family.de
X-WR-CALDESC:Veranstaltungen für taunus4family
BEGIN:VTIMEZONE
TZID:Europe/Helsinki
BEGIN:DAYLIGHT
TZOFFSETFROM:+0200
TZOFFSETTO:+0300
TZNAME:EEST
DTSTART:20250330T010000
END:DAYLIGHT
BEGIN:STANDARD
TZOFFSETFROM:+0300
TZOFFSETTO:+0200
TZNAME:EET
DTSTART:20251026T010000
END:STANDARD
END:VTIMEZONE
BEGIN:VEVENT
DTSTART;VALUE=DATE:20250621
DTEND;VALUE=DATE:20250907
DTSTAMP:20260422T133818
CREATED:20250322T062635Z
LAST-MODIFIED:20250323T133758Z
UID:50642-1750464000-1757203199@www.taunus4family.de
SUMMARY:Familienprogramm beim 38. Rheingau Musik Festival
DESCRIPTION:Das Rheingau Musik Festival 2025 findet vom 21. Juni bis zum 6. September 2025 statt und zählt zu den größten Musikfestivals Europas. In dieser Zeit werden über 170 Konzerte in der gesamten Region von Frankfurt am Main über Wiesbaden bis zum Mittelrheintal veranstaltet. Einmalige Kulturdenkmäler wie Kloster Eberbach\, Schloss Johannisberg\, Schloss Vollrads und das Kurhaus Wiesbaden sowie lauschige Weingüter dienen als Konzertbühnen für Stars der internationalen Musikszene aus den Bereichen Klassik\, Jazz\, Kabarett und Weltmusik. ​ \nDer Vorverkauf für das Festival startete am 20. Februar 2025. Unter dem Motto „Winterfreude trifft Sommerträume“ stehen zehn ausgewählte Open-Air-Konzerte im Mittelpunkt des Vorverkaufs. ​ \nMusikspaß für junge Entdecker\nWährend des Festivals soll nicht nur das erwachsene Publikum in den Genuss eines musikalischen Sommers kommen. Ein besonderes Anliegen ist es\, auch die jüngsten Zuhörer für Musik zu begeistern\, ihre Neugier zu wecken und ihnen die Freude an klassischer Musik spielerisch näherzubringen. Dafür gibt es ein vielfältiges Angebot speziell für Kinder\, um ihnen die Freude an klassischer Musik näherzubringen. Geplant sind spezielle Kinderkonzerte\, die bereits für Kinder ab drei Jahren geeignet sind. Bei den Kinder- und Sitzkissen-Konzerten steht weniger das Einhalten strenger Konzertregeln im Mittelpunkt\, sondern vielmehr eine entspannte\, familienfreundliche Atmosphäre. Die jungen Gäste können es sich bequem machen und die Künstler hautnah erleben. So wird Musik auf spielerische Weise erfahrbar\, regt die Fantasie an und lässt ein gemeinsames\, magisches Konzerterlebnis entstehen. \nZusätzlich engagiert sich das Festival in der Bildungsarbeit und ermöglicht Schulbesuche von hochkarätigen Solisten und Ensembles. Diese Musiker kommen direkt in die Klassenräume\, präsentieren ihr Können\, erzählen aus ihrem Alltag und beantworten Fragen der Schüler. Solche Begegnungen bieten den Schülern einzigartige Einblicke in die Welt der Musik und fördern das Interesse an kulturellen Aktivitäten. \nFestival für die ganze Familie \nDie Kinderkonzerte sind Erlebnisse für alle Sinne\, hier werden Ohren gespitzt\, Ideen entwickelt und Inhalte spielerisch vermittelt. Und natürlich kommen dabei auch der Spaß und die Freude nicht zu kurz. Die Kinder machen es sich bequem und erleben die Künstler und unmittelbarer Nähe. Es sind alle zum Zuhören\, Staunen und Mitmachen eingeladen. Für Familienfeste unter freiem Himmel bietet das Festival ebenfalls zahlreiche Möglichkeiten. Diese Veranstaltungen sind so gestaltet\, dass sie sowohl für Kinder als auch für Erwachsene attraktiv sind\, wobei der Entdeckergeist und das gemeinsame Erleben im Vordergrund stehen. \nEs wird empfohlen\, frühzeitig Tickets zu erwerben\, da die Kinderkonzerte erfahrungsgemäß sehr beliebt sind. \n  \n22.06.25\, Kurfürstliche Burg Eltville\n‚Walzerschritt & Polkahit – Johann Strauss für Kinder‘ \n06.07.2025\, Schloss Johannisburg\n‚Die Blecharbeiter! \n13.07.2025\, Kurhaus Wiesbaden\n‚Workshop „Tritsch Tratsch Grooves“ mit der deutschen Kammerphilharmonie Bremen \n27.07.2025\, Kurfürstliche Burg Eltville\n„Holzwurmgeschichten“ \n29.07.2025\, Kurfürstliche Burg Eltville\n„Juri und die Zauberflöte“ \n24.08.2025\, Schloss Johannisberg\n„Tarzahn hat Karies“ \n  \nMehr Info und Familienprogramm hier! \n  \nTickets und Preise\nKarten für Erwachsene: 25.00€\nKarten für Kinder: 15.00€ \nKartenvorverkauf TRM-Tickets für Rhein-Main GmbH & Co. KG\nPostfach 1125 – 65367 Oestrich-Winkel \nKarten- und Infotelefon: 0 67 23 / 60 21 70 (Mo – Fr 9.30 – 17 Uhr) \n  \n  \n 
URL:https://www.taunus4family.de/veranstaltung/familienprogramm-beim-38-rheingau-musik-festival/
LOCATION:Rheingau-Region\, Deutschland
CATEGORIES:Kunst und Kultur,Musik und Konzerte
ATTACH;FMTTYPE=image/jpeg:https://www.taunus4family.de/wp-content/uploads/2019/02/Fotolia_Nastya.jpg
ORGANIZER;CN="Rheingau%20Musik%20Festival%20Konzertgesellschaft%20mbH":MAILTO:info@rheingau-musik-festival.de
END:VEVENT
END:VCALENDAR