BEGIN:VCALENDAR
VERSION:2.0
PRODID:-//taunus4family - ECPv5.14.1//NONSGML v1.0//EN
CALSCALE:GREGORIAN
METHOD:PUBLISH
X-WR-CALNAME:taunus4family
X-ORIGINAL-URL:https://www.taunus4family.de
X-WR-CALDESC:Veranstaltungen für taunus4family
BEGIN:VTIMEZONE
TZID:Europe/Helsinki
BEGIN:DAYLIGHT
TZOFFSETFROM:+0200
TZOFFSETTO:+0300
TZNAME:EEST
DTSTART:20250330T010000
END:DAYLIGHT
BEGIN:STANDARD
TZOFFSETFROM:+0300
TZOFFSETTO:+0200
TZNAME:EET
DTSTART:20251026T010000
END:STANDARD
END:VTIMEZONE
BEGIN:VEVENT
DTSTART;TZID=Europe/Helsinki:20250706T113000
DTEND;TZID=Europe/Helsinki:20250706T140000
DTSTAMP:20260422T115645
CREATED:20250702T175816Z
LAST-MODIFIED:20250702T175816Z
UID:51376-1751801400-1751810400@www.taunus4family.de
SUMMARY:Family Sunday mit Spielplatz-Treff
DESCRIPTION:Unsere FAMILY SUNDAYS starten am 6. Juli! \nWir starten ein neues Angebot: Unseren Familiy Sunday! Zunächst im großen Garten mit Spielplatz\, im Laufe des Sommers dann auch in unserer neuen Kinderwelt mit Lounge für die Erwachsenen! \nEntspannt zusammenkommen und andere Familien kennenlernen – bei Snacks\, Kaffee\, Musik & Co. \nJeder ist herzlich eingeladen! Einfach bei uns in der Sodener Straße 18 vorbeischauen.
URL:https://www.taunus4family.de/veranstaltung/family-sunday-mit-spielplatz-treff/
LOCATION:EFG Bad Homburg\, Sodener Straße 11+18\, Bad Homburg\, 61350
CATEGORIES:Freizeit
ATTACH;FMTTYPE=image/jpeg:https://www.taunus4family.de/wp-content/uploads/2025/07/efg-badhomburg.defamily-sunday-182.88-x-91.44-cm.jpg
ORGANIZER;CN="EFG%20Bad%20Homburg":MAILTO:redaktion@efg-badhomburg.de
GEO:50.2338987;8.6046641
X-APPLE-STRUCTURED-LOCATION;VALUE=URI;X-ADDRESS=EFG Bad Homburg Sodener Straße 11+18 Bad Homburg 61350;X-APPLE-RADIUS=500;X-TITLE=Sodener Straße 11+18:geo:8.6046641,50.2338987
END:VEVENT
END:VCALENDAR