BEGIN:VCALENDAR
VERSION:2.0
PRODID:-//taunus4family - ECPv5.14.1//NONSGML v1.0//EN
CALSCALE:GREGORIAN
METHOD:PUBLISH
X-WR-CALNAME:taunus4family
X-ORIGINAL-URL:https://www.taunus4family.de
X-WR-CALDESC:Veranstaltungen für taunus4family
BEGIN:VTIMEZONE
TZID:Europe/Helsinki
BEGIN:DAYLIGHT
TZOFFSETFROM:+0200
TZOFFSETTO:+0300
TZNAME:EEST
DTSTART:20250330T010000
END:DAYLIGHT
BEGIN:STANDARD
TZOFFSETFROM:+0300
TZOFFSETTO:+0200
TZNAME:EET
DTSTART:20251026T010000
END:STANDARD
END:VTIMEZONE
BEGIN:VEVENT
DTSTART;TZID=Europe/Helsinki:20250810T113000
DTEND;TZID=Europe/Helsinki:20250810T140000
DTSTAMP:20260422T014354
CREATED:20250809T074559Z
LAST-MODIFIED:20250809T074559Z
UID:51673-1754825400-1754834400@www.taunus4family.de
SUMMARY:FAMILY SUNDAY
DESCRIPTION:Am Sonntag\, 10. August\, findet unser nächster FAMILY SUNDAY im großen Gemeindegarten mit Spielplatz in der Sodener Straße 18 statt! \nEntspannt zusammenkommen und andere Familien kennenlernen – bei Snacks\, Kaffee\, Musik & Co. \nJeder ist herzlich eingeladen! Einfach bei uns in der Sodener Straße 18 vorbeischauen. \nIm September öffnet dann auch unsere neue Kinderwelt mit Lounge für die Erwachsenen im Innenbereich! \nWeitere Informationen unter www.efg-badhomburg.de/family-sunday
URL:https://www.taunus4family.de/veranstaltung/family-sunday/
LOCATION:EFG Bad Homburg\, Sodener Straße 11+18\, Bad Homburg\, 61350
CATEGORIES:Freizeit
ATTACH;FMTTYPE=image/jpeg:https://www.taunus4family.de/wp-content/uploads/2025/08/IMG_7208.jpeg
ORGANIZER;CN="EFG%20Bad%20Homburg":MAILTO:redaktion@efg-badhomburg.de
GEO:50.2338987;8.6046641
X-APPLE-STRUCTURED-LOCATION;VALUE=URI;X-ADDRESS=EFG Bad Homburg Sodener Straße 11+18 Bad Homburg 61350;X-APPLE-RADIUS=500;X-TITLE=Sodener Straße 11+18:geo:8.6046641,50.2338987
END:VEVENT
END:VCALENDAR