BEGIN:VCALENDAR
VERSION:2.0
PRODID:-//taunus4family - ECPv5.14.1//NONSGML v1.0//EN
CALSCALE:GREGORIAN
METHOD:PUBLISH
X-WR-CALNAME:taunus4family
X-ORIGINAL-URL:https://www.taunus4family.de
X-WR-CALDESC:Veranstaltungen für taunus4family
BEGIN:VTIMEZONE
TZID:Europe/Helsinki
BEGIN:DAYLIGHT
TZOFFSETFROM:+0200
TZOFFSETTO:+0300
TZNAME:EEST
DTSTART:20240331T010000
END:DAYLIGHT
BEGIN:STANDARD
TZOFFSETFROM:+0300
TZOFFSETTO:+0200
TZNAME:EET
DTSTART:20241027T010000
END:STANDARD
END:VTIMEZONE
BEGIN:VEVENT
DTSTART;TZID=Europe/Helsinki:20240819T100000
DTEND;TZID=Europe/Helsinki:20240823T150000
DTSTAMP:20260424T092304
CREATED:20240627T171442Z
LAST-MODIFIED:20240627T171442Z
UID:48599-1724061600-1724425200@www.taunus4family.de
SUMMARY:Ferienworkshop MUSICAL - von den Profis lernen
DESCRIPTION:Bühnen:Zeit bietet in der letzten Schulferienwoche vom 19. August 2024 bis 23. August 2024 täglich von 10:00 Uhr bis 15:00 Uhr ein Ferienprogramm für Kinder und Jugendliche an\, die an Tanz\, Schauspiel und Gesang ein Interesse haben und schon immer in die Welt des Musicals eintauchen wollten. \nIm Rahmen des 1-wöchigen Musicalkurses – in den Räumen der Heiligenstock Schule in Hofheim – werden mit professionellen Coaches Choreografien einstudiert\, an der Aussprache und dem Ausdruck geprobt und bekannte sowie von Bühnen:Zeit selbst komponierte Liedtexte gesungen. Am letzten Tag gibt es eine kleine Performance vor Bekannten und Verwandten. \nDas Ferienprogramm richtet sich an Kinder und Jugendliche im Alter von 8 bis 12 Jahren. Im Preis von 249 EURO inbegriffen sind neben dem Musicalkurs auch Snacks und Getränke sowie eine Mittagsbetreuung (Geschwisterkinder zahlen 219 EURO). \nDie Mindesteilnehmerzahl liegt bei 10 Kindern/Jugendlichen. Die maximale Teilnehmerzahl bei 20 Kindern/Jugendlichen. Anmeldungen bitte an info@buehnenzeit.de senden.
URL:https://www.taunus4family.de/veranstaltung/ferienworkshop-musical-von-den-profis-lernen/
LOCATION:Heiligenstock Schule in Hofheim am Taunus\, Königsberger Straße 29\, Hofheim\, 65719\, Deutschland
CATEGORIES:Freizeit,Kunst und Kultur,Musik und Konzerte,Sport und Bewegung,Theater und Bühnen,Weiterbildung und Information
ATTACH;FMTTYPE=image/jpeg:https://www.taunus4family.de/wp-content/uploads/2024/06/ferien1.jpg
ORGANIZER;CN="B%C3%BChnen%3AZeit":MAILTO:info@buehnenzeit.de
GEO:50.0769947;8.4432639
X-APPLE-STRUCTURED-LOCATION;VALUE=URI;X-ADDRESS=Heiligenstock Schule in Hofheim am Taunus Königsberger Straße 29 Hofheim 65719 Deutschland;X-APPLE-RADIUS=500;X-TITLE=Königsberger Straße 29:geo:8.4432639,50.0769947
END:VEVENT
END:VCALENDAR