BEGIN:VCALENDAR
VERSION:2.0
PRODID:-//taunus4family - ECPv5.14.1//NONSGML v1.0//EN
CALSCALE:GREGORIAN
METHOD:PUBLISH
X-WR-CALNAME:taunus4family
X-ORIGINAL-URL:https://www.taunus4family.de
X-WR-CALDESC:Veranstaltungen für taunus4family
BEGIN:VTIMEZONE
TZID:Europe/Helsinki
BEGIN:DAYLIGHT
TZOFFSETFROM:+0200
TZOFFSETTO:+0300
TZNAME:EEST
DTSTART:20250330T010000
END:DAYLIGHT
BEGIN:STANDARD
TZOFFSETFROM:+0300
TZOFFSETTO:+0200
TZNAME:EET
DTSTART:20251026T010000
END:STANDARD
END:VTIMEZONE
BEGIN:VEVENT
DTSTART;VALUE=DATE:20250725
DTEND;VALUE=DATE:20250804
DTSTAMP:20260422T044614
CREATED:20250715T072613Z
LAST-MODIFIED:20250715T084818Z
UID:51466-1753401600-1754265599@www.taunus4family.de
SUMMARY:Figurentheater mit Rabe Socke
DESCRIPTION:Das Zauberwald Theater kommt in Ihre Stadt! \nVom 25. Juli bis 3. August 2025 gastiert das beliebte Zauberwald Theater der Familie Sperlich in Ihrer Stadt und lädt kleine und große Zuschauer zu einem besonderen Theatererlebnis ein. Seit vielen Jahren begeistert das Ensemble mit liebevoll gestalteten Handpuppen\, farbenfrohen Bühnenbildern und lebensgroßen Kostümen Kinder und Familien in ganz Deutschland. \nIn ihrem aktuellen Stück „Rabe Socke – Alles erlaubt!“\, nach dem bekannten Kinderbuch „Alles erlaubt?“ von Nele Moost und Annet Rudolph\, erlebt der freche kleine Rabe ein lustiges und lehrreiches Abenteuer: Immer brav sein? Das kann doch niemand – denkt sich zumindest der kleine Rabe. Doch mit Hilfe seiner Freunde Eddi Bär\, Wolle\, Löffel\, Stulle und dem kleinen Dachs lernt er\, was es heißt\, Rücksicht zu nehmen und sich an Regeln zu halten. \nDie Inszenierung ist geprägt von liebevoller Detailarbeit: Die Puppen wirken\, als seien sie direkt aus den „Rabe Socke“-Büchern oder der KIKA-Serie auf die Bühne gehüpft. Die farbenfrohen Kulissen schaffen eine Atmosphäre\, die Kinder wie Erwachsene in ihren Bann zieht. Dabei dürfen die jungen Zuschauer immer wieder aktiv mithelfen – ein interaktives Theatererlebnis\, das in Erinnerung bleibt! \nDauer: ca. 50 Minuten\, in drei AktenPause: nach dem 2. Akt\, ca. 10 MinutenEmpfohlenes Alter: ab 2 Jahren \nEintritt\n12\,00 EURKinder mit Gutschein: 10\,00 EUR (Gutscheine erhältlich in vielen Kitas) \nTermine:Freitag: 16:00 UhrSamstag & Sonntag: jeweils 11:00 und 15:00 Uhr \nVerpasst nicht diese bezaubernde Vorstellung voller Witz\, Herz und Mitmach-Momenten – ein Muss für alle kleinen Rabe-Socke-Fans und ihre Familien! \nBei uns gibt es Freikarten zu gewinnen! Einfach eine Mail an uns!
URL:https://www.taunus4family.de/veranstaltung/figurentheater-mit-rabe-socke/
LOCATION:Festplatz Peter Geibel Str.\, Friedrichsdorf-Burgholzhausen\, 61381\, Deutschland
CATEGORIES:Theater und Bühnen
ATTACH;FMTTYPE=image/jpeg:https://www.taunus4family.de/wp-content/uploads/2025/07/Screenshot-2025-07-15-091142.jpg
ORGANIZER;CN="Theater%20Zauberwald%20M%C3%A4rchenpalast%20Gina%20Sperlich":MAILTO:gina-sperlich@web.de
END:VEVENT
END:VCALENDAR