BEGIN:VCALENDAR
VERSION:2.0
PRODID:-//taunus4family - ECPv5.14.1//NONSGML v1.0//EN
CALSCALE:GREGORIAN
METHOD:PUBLISH
X-WR-CALNAME:taunus4family
X-ORIGINAL-URL:https://www.taunus4family.de
X-WR-CALDESC:Veranstaltungen für taunus4family
BEGIN:VTIMEZONE
TZID:Europe/Helsinki
BEGIN:DAYLIGHT
TZOFFSETFROM:+0200
TZOFFSETTO:+0300
TZNAME:EEST
DTSTART:20250330T010000
END:DAYLIGHT
BEGIN:STANDARD
TZOFFSETFROM:+0300
TZOFFSETTO:+0200
TZNAME:EET
DTSTART:20251026T010000
END:STANDARD
BEGIN:DAYLIGHT
TZOFFSETFROM:+0200
TZOFFSETTO:+0300
TZNAME:EEST
DTSTART:20260329T010000
END:DAYLIGHT
BEGIN:STANDARD
TZOFFSETFROM:+0300
TZOFFSETTO:+0200
TZNAME:EET
DTSTART:20261025T010000
END:STANDARD
END:VTIMEZONE
BEGIN:VEVENT
DTSTART;VALUE=DATE:20250215
DTEND;VALUE=DATE:20260112
DTSTAMP:20260424T214520
CREATED:20250214T083754Z
LAST-MODIFIED:20251226T124737Z
UID:50206-1739577600-1768175999@www.taunus4family.de
SUMMARY:"FLASHBACK – Eine Reise durch die bunte Welt der LEGO® Bausteine"
DESCRIPTION:Die LEGO® Geschichte – ein Welterfolg\, geboren in der Krise\nDie LEGO® Geschichte beginnt in den 1930er Jahren in einer kleinen Werkstatt im dänischen Billund…. \nVon 15. Februar 2025 bis 11. Januar 2026 verwandelt sich das Kloster Eberbach in eine Zeitkapsel der Spielzeuggeschichte. Das Team Lange präsentiert eine der bedeutendsten LEGO® Sammlungen Deutschlands und lädt euch ein\, die faszinierende Welt der legendären Noppensteine neu zu entdecken. \nIn über 30 Vitrinen erwarten euch mehr als 1.780 Modelle aus über einer Million Teilen – von Technic über Architecture bis hin zu City\, Harry Potter™ und Star Wars™. \nErlebt eine faszinierende Reise durch die Geschichte der LEGO® Steine! Das Team Lange inszeniert eine der größten Privatsammlungen Deutschlands mit über 1.780 Modellen aus mehr als einer Million Teilen – von Technic bis Star Wars™. \n🔹 Spektakuläre Star Wars™-Filmszenen & eine 12 Meter lange City-Welt\n🔹 Mitmachstationen\, Bauecke & Selfie-Spots\n🔹 Virtuelle Erlebnisse und interaktive Highlights \nEin besonderes Highlight: Das 5×5 Meter große LEGO® Modell des Klosters Eberbach\, erschaffen von Jörg Brormann (LEGO® Modellbaufans Rheinland e.V.)\, ausgestellt im historischen Mönchsdormitorium. \nTaucht ein in eine Welt voller Nostalgie\, Kreativität und Spielspaß – für die ganze Familie! \n  \nÖffnungszeiten \nMontags bis freitags von 11:00 bis 18:00 Uhr und samstags\, sonntags und an Feiertagen von 10:00 bis 18:00 Uhr.\nDer letzte Einlass ist immer 30 Minuten vor Kassenschluss. \nEintritt: 16 Euro für Erwachsene\, 38 Euro für die Familienkarte \n  \nAchtung: Bei uns könnt Ihr Freitickets gewinnen! Eure Meinung ist uns wichtig! 🌟 Hinterlasst uns eine Google-Bewertung und nehmt automatisch an unserer Verlosung teil. So einfach geht’s: Bewerten\, teilen & mit etwas Glück gewinnen! 🎉:  taunus4family auf Google bewerten\nVielen Dank für Eure Unterstützung! 🙌 \n  \n 
URL:https://www.taunus4family.de/veranstaltung/flashback-zeitreise-durch-die-bunte-welt-der-lego-baustein/
LOCATION:Kloster Eberbach\, Eltville im Rheingau\, 65346\, Deutschland
CATEGORIES:Kunst und Kultur
ATTACH;FMTTYPE=image/jpeg:https://www.taunus4family.de/wp-content/uploads/2025/02/Spielen-erlaubt-Die-Familie-hat-in-der-Bauecke-grossen-Spass-©-Sven-Moschitz.jpg
ORGANIZER;CN="Kloster%20Eberbach":MAILTO:info@kloster-eberbach.de
GEO:50.0207294;8.096091
END:VEVENT
END:VCALENDAR