BEGIN:VCALENDAR
VERSION:2.0
PRODID:-//taunus4family - ECPv5.14.1//NONSGML v1.0//EN
CALSCALE:GREGORIAN
METHOD:PUBLISH
X-WR-CALNAME:taunus4family
X-ORIGINAL-URL:https://www.taunus4family.de
X-WR-CALDESC:Veranstaltungen für taunus4family
BEGIN:VTIMEZONE
TZID:Europe/Helsinki
BEGIN:DAYLIGHT
TZOFFSETFROM:+0200
TZOFFSETTO:+0300
TZNAME:EEST
DTSTART:20250330T010000
END:DAYLIGHT
BEGIN:STANDARD
TZOFFSETFROM:+0300
TZOFFSETTO:+0200
TZNAME:EET
DTSTART:20251026T010000
END:STANDARD
END:VTIMEZONE
BEGIN:VEVENT
DTSTART;TZID=Europe/Helsinki:20250322T140000
DTEND;TZID=Europe/Helsinki:20250322T160000
DTSTAMP:20260422T115343
CREATED:20250206T061239Z
LAST-MODIFIED:20250206T061239Z
UID:50052-1742652000-1742659200@www.taunus4family.de
SUMMARY:Flohmarkt Marie-Curie-Schule
DESCRIPTION:Wir starten 2025 wieder mit unserer beliebten Flohmarktreihe für Baby- und Kindersachen! \nVerkauf von Privat an Privat / Selbstverkäufer \nIn Ruhe stöbern und Kaffee & Kuchen genießen \nTische (max. 3 m Standfläche inkl. Kleiderständer\, etc.) sind selbst mitzubringen. Der Flohmarkt findet je nach Wetterlage drinnen oder draußen statt. Plätze werden entsprechend der Reihenfolge der Anmeldung vergeben. \nAnmeldung ab 22. Februar 2025 07:00 Uhr unter: flohmarkt@foerderverein-mcs.de\nStandgebühr 5 EUR + 1 selbstgebackener Kuchen (Kinderverkaufsplätze frei) \nhttps://foerderverein-mcs.de
URL:https://www.taunus4family.de/veranstaltung/flohmarkt-marie-curie-schule/
LOCATION:Marie-Curie-Schule Frankfurt Riedberg\, Graf-von-Stauffenberg-Allee 55\, Frankfurt\, 60438
CATEGORIES:Basare und Flohmärkte
GEO:50.1800484;8.619842
X-APPLE-STRUCTURED-LOCATION;VALUE=URI;X-ADDRESS=Marie-Curie-Schule Frankfurt Riedberg Graf-von-Stauffenberg-Allee 55 Frankfurt 60438;X-APPLE-RADIUS=500;X-TITLE=Graf-von-Stauffenberg-Allee 55:geo:8.619842,50.1800484
END:VEVENT
END:VCALENDAR