BEGIN:VCALENDAR
VERSION:2.0
PRODID:-//taunus4family - ECPv5.14.1//NONSGML v1.0//EN
CALSCALE:GREGORIAN
METHOD:PUBLISH
X-WR-CALNAME:taunus4family
X-ORIGINAL-URL:https://www.taunus4family.de
X-WR-CALDESC:Veranstaltungen für taunus4family
BEGIN:VTIMEZONE
TZID:Europe/Helsinki
BEGIN:DAYLIGHT
TZOFFSETFROM:+0200
TZOFFSETTO:+0300
TZNAME:EEST
DTSTART:20250330T010000
END:DAYLIGHT
BEGIN:STANDARD
TZOFFSETFROM:+0300
TZOFFSETTO:+0200
TZNAME:EET
DTSTART:20251026T010000
END:STANDARD
END:VTIMEZONE
BEGIN:VEVENT
DTSTART;TZID=Europe/Helsinki:20250308T090000
DTEND;TZID=Europe/Helsinki:20250308T123000
DTSTAMP:20260423T073445
CREATED:20250206T061023Z
LAST-MODIFIED:20250206T061023Z
UID:50053-1741424400-1741437000@www.taunus4family.de
SUMMARY:Flohmarkt rund ums Kind
DESCRIPTION:Neben dem Online-Basar über Kibaza\, wird es erneut einen Flohmarkt vor Ort zum Verkauf von Kindersachen geben. \nAnbei eine Zusammenfassung der Termine: \n– Flohmarkt vor Ort im Kiz: 08.03 von 9.00 bis 12.30Uhr \nDie Platzreservierung für den Flohmarkt ist ab sofort bei möglich (Kosten: 3 Meter 10€ / Platz für Kleiderstange 2\,50€). Die Tische müssen mitgebracht werden. Nach Absprache können Tische (pro Meter 5€) und Kleiderstangen (3€) über die Kita bereit gestellt werden. Aufbau ab 8.30 Uhr. \nAnmeldung unter : Basar-kt96@gmx.de
URL:https://www.taunus4family.de/veranstaltung/flohmarkt-rund-ums-kind-6/
LOCATION:kiz96\, In den Schafgärten 23\, Frankfurt\, 60437
CATEGORIES:Basare und Flohmärkte
ATTACH;FMTTYPE=image/jpeg:https://www.taunus4family.de/wp-content/uploads/2025/01/80bdebf9-9d45-44df-8db9-9135ad38e68a.jpeg
ORGANIZER;CN="Elternbeirat%20KiZ96":MAILTO:Basar-kt96@gmx.de
END:VEVENT
END:VCALENDAR