BEGIN:VCALENDAR
VERSION:2.0
PRODID:-//taunus4family - ECPv5.14.1//NONSGML v1.0//EN
CALSCALE:GREGORIAN
METHOD:PUBLISH
X-WR-CALNAME:taunus4family
X-ORIGINAL-URL:https://www.taunus4family.de
X-WR-CALDESC:Veranstaltungen für taunus4family
BEGIN:VTIMEZONE
TZID:Europe/Helsinki
BEGIN:DAYLIGHT
TZOFFSETFROM:+0200
TZOFFSETTO:+0300
TZNAME:EEST
DTSTART:20250330T010000
END:DAYLIGHT
BEGIN:STANDARD
TZOFFSETFROM:+0300
TZOFFSETTO:+0200
TZNAME:EET
DTSTART:20251026T010000
END:STANDARD
END:VTIMEZONE
BEGIN:VEVENT
DTSTART;TZID=Europe/Helsinki:20250907T100000
DTEND;TZID=Europe/Helsinki:20250907T150000
DTSTAMP:20260422T080446
CREATED:20250902T162533Z
LAST-MODIFIED:20250902T162533Z
UID:51978-1757239200-1757257200@www.taunus4family.de
SUMMARY:Flohmarx - der Hof- und Garagenflohmarkt in Alt-Marxheim
DESCRIPTION:Flohmarx – der Hof- und Garagenflohmarkt in Alt-Marxheim.
URL:https://www.taunus4family.de/veranstaltung/flohmarx-der-hof-und-garagenflohmarkt-in-alt-marxheim-2/
LOCATION:Schulstraße\, 65719 Hofheim Marxheim\, Schulstraße\, Hofheim Marxheim\, 65719
CATEGORIES:Basare und Flohmärkte
ATTACH;FMTTYPE=image/jpeg:https://www.taunus4family.de/wp-content/uploads/2025/09/Floh-Marx-Grafik.jpg
ORGANIZER;CN="Die%20Anwohner":MAILTO:flohmarx@gmx.de
GEO:50.0711892;8.4327805
X-APPLE-STRUCTURED-LOCATION;VALUE=URI;X-ADDRESS=Schulstraße 65719 Hofheim Marxheim Schulstraße Hofheim Marxheim 65719;X-APPLE-RADIUS=500;X-TITLE=Schulstraße:geo:8.4327805,50.0711892
END:VEVENT
END:VCALENDAR