BEGIN:VCALENDAR
VERSION:2.0
PRODID:-//taunus4family - ECPv5.14.1//NONSGML v1.0//EN
CALSCALE:GREGORIAN
METHOD:PUBLISH
X-WR-CALNAME:taunus4family
X-ORIGINAL-URL:https://www.taunus4family.de
X-WR-CALDESC:Veranstaltungen für taunus4family
BEGIN:VTIMEZONE
TZID:Europe/Helsinki
BEGIN:DAYLIGHT
TZOFFSETFROM:+0200
TZOFFSETTO:+0300
TZNAME:EEST
DTSTART:20240331T010000
END:DAYLIGHT
BEGIN:STANDARD
TZOFFSETFROM:+0300
TZOFFSETTO:+0200
TZNAME:EET
DTSTART:20241027T010000
END:STANDARD
END:VTIMEZONE
BEGIN:VEVENT
DTSTART;TZID=Europe/Helsinki:20240420T130000
DTEND;TZID=Europe/Helsinki:20240420T150000
DTSTAMP:20260424T192103
CREATED:20240311T180929Z
LAST-MODIFIED:20240311T180929Z
UID:47643-1713618000-1713625200@www.taunus4family.de
SUMMARY:Flotte Klamotte Kinderkleider und Spielzeug Basar
DESCRIPTION:Großer Kinderkleider uns Spielzeugbasar mit 65 Tischen. Verkauft wird alles rund ums Kind.\nSchwangeren Einlass ist um 12:30 Uhr.\nTischvergabe am 16.03.2024 unter 0173-9863407. \nFür das leibliche Wohl ist bestens gesorgt.
URL:https://www.taunus4family.de/veranstaltung/flotte-klamotte-kinderkleider-und-spielzeug-basar-4/
LOCATION:Karl Treute Schule Sporthalle\, Friedensstr. 2^\, Kelsterbach\, 65451
CATEGORIES:Basare und Flohmärkte
ATTACH;FMTTYPE=image/jpeg:https://www.taunus4family.de/wp-content/uploads/2024/03/Flotte-Klamotte.jpg
ORGANIZER;CN="TSG%20Flair%20Kelsterbach%20e.V.":MAILTO:info@tsg-flair.de
GEO:50.0574054;8.5280158
X-APPLE-STRUCTURED-LOCATION;VALUE=URI;X-ADDRESS=Karl Treute Schule Sporthalle Friedensstr. 2^ Kelsterbach 65451;X-APPLE-RADIUS=500;X-TITLE=Friedensstr. 2^:geo:8.5280158,50.0574054
END:VEVENT
END:VCALENDAR