BEGIN:VCALENDAR
VERSION:2.0
PRODID:-//taunus4family - ECPv5.14.1//NONSGML v1.0//EN
CALSCALE:GREGORIAN
METHOD:PUBLISH
X-WR-CALNAME:taunus4family
X-ORIGINAL-URL:https://www.taunus4family.de
X-WR-CALDESC:Veranstaltungen für taunus4family
BEGIN:VTIMEZONE
TZID:Europe/Helsinki
BEGIN:DAYLIGHT
TZOFFSETFROM:+0200
TZOFFSETTO:+0300
TZNAME:EEST
DTSTART:20240331T010000
END:DAYLIGHT
BEGIN:STANDARD
TZOFFSETFROM:+0300
TZOFFSETTO:+0200
TZNAME:EET
DTSTART:20241027T010000
END:STANDARD
BEGIN:DAYLIGHT
TZOFFSETFROM:+0200
TZOFFSETTO:+0300
TZNAME:EEST
DTSTART:20250330T010000
END:DAYLIGHT
BEGIN:STANDARD
TZOFFSETFROM:+0300
TZOFFSETTO:+0200
TZNAME:EET
DTSTART:20251026T010000
END:STANDARD
END:VTIMEZONE
BEGIN:VEVENT
DTSTART;VALUE=DATE:20241125
DTEND;VALUE=DATE:20250116
DTSTAMP:20260426T035152
CREATED:20241107T175824Z
LAST-MODIFIED:20241107T175824Z
UID:49670-1732492800-1736985599@www.taunus4family.de
SUMMARY:Frankfurter Haus Winter Wonderland
DESCRIPTION:Liebevoller Weihnachtsmarkt mit Eislauf- und Eisstockbahn im Garten des Frankfurter Hauses \nDas Frankfurter Haus öffnet seine Pforten für ein einzigartiges Winter Wonderland\, das alles bietet\, was das Herz in der kalten Jahreszeit begehrt. Der Höhepunkt des Winterzaubers im Frankfurter Haus ist zweifellos die beeindruckende Eislaufbahn mit einer Fläche von rund 200 Quadratmetern. Neben dem Eislaufen bietet das Frankfurter Haus auch eine 14 Meter lange Eisstockschießbahn und einen Weihnachtsmarkt mit eigenem Glühwein\, heißem Apfelwein\, knusprigen Waffeln\, herzhafter Wildbratwurst und hausgemachter Schokolade. Oder Ihr geht danach ins Restaurant zum traditionellen Gänseessen. Highlight: Disco-Eislaufen immer freitags im Dezember! \nÖffnungszeiten\n Do – Fr von 16-23 Uhr\, Sa und So 15-23 Uhr (geschlossen 24.12.24)
URL:https://www.taunus4family.de/veranstaltung/frankfurter-haus-winter-wonderland/
LOCATION:Frankfurter Haus\, Darmstädter Landstrasse 741\, Neu-Isenburg\, 63263\, Deutschland
CATEGORIES:Freizeit,Sport und Bewegung
ATTACH;FMTTYPE=image/jpeg:https://www.taunus4family.de/wp-content/uploads/2024/11/Screenshot-2024-11-07-185555.jpg
END:VEVENT
END:VCALENDAR