BEGIN:VCALENDAR
VERSION:2.0
PRODID:-//taunus4family - ECPv5.14.1//NONSGML v1.0//EN
CALSCALE:GREGORIAN
METHOD:PUBLISH
X-WR-CALNAME:taunus4family
X-ORIGINAL-URL:https://www.taunus4family.de
X-WR-CALDESC:Veranstaltungen für taunus4family
BEGIN:VTIMEZONE
TZID:Europe/Helsinki
BEGIN:DAYLIGHT
TZOFFSETFROM:+0200
TZOFFSETTO:+0300
TZNAME:EEST
DTSTART:20250330T010000
END:DAYLIGHT
BEGIN:STANDARD
TZOFFSETFROM:+0300
TZOFFSETTO:+0200
TZNAME:EET
DTSTART:20251026T010000
END:STANDARD
END:VTIMEZONE
BEGIN:VEVENT
DTSTART;TZID=Europe/Helsinki:20250316T000000
DTEND;TZID=Europe/Helsinki:20250316T000000
DTSTAMP:20260422T125954
CREATED:20250316T152554Z
LAST-MODIFIED:20250316T152554Z
UID:50556-1742083200-1742083200@www.taunus4family.de
SUMMARY:Freienfelser Ritterspiele 2025
DESCRIPTION:Hier beginnt das Mittelalter…\nWillkommen bei den Freienfelser Ritterspielen\, einer der ältesten und größten Mittelalterveranstaltungen Deutschlands! Jedes Jahr verwandelt sich das malerische Weiltal in eine faszinierende Welt längst vergangener Zeiten. Auf 130.000 qm versammeln sich über 3.000 Ritter\, Musiker\, Handwerker\, Künstler und Lagernde\, um das Mittelalter in all seinen Facetten zum Leben zu erwecken. \n🏰 Mehr als nur ein Spektakel – Ein Fest mit TraditionSeit über zwei Jahrzehnten begeistern die Freienfelser Ritterspiele mit ihren einzigartigen Besonderheiten: der traditionellen Feldandacht am Sonntag\, den aufwendig inszenierten Ritterturnieren und einer familiären Atmosphäre\, die Besucher jedes Jahr aufs Neue verzaubert. Doch hinter all dem steckt ein ritterliches Anliegen: Der gesamte Erlös fließt direkt in die Sanierung der Burgruine Freienfels\, um dieses historische Erbe für kommende Generationen zu bewahren. \n⚔️ Mittelalter hautnah erlebenZu Füßen der Burg erwartet euch ein authentisches Lagerleben mit über 2.000 Teilnehmenden in 100 historischen Lagerstätten. Hier könnt ihr hautnah erleben\, wie Menschen von der Völkerwanderungszeit bis ins Hochmittelalter gelebt\, gearbeitet\, gegessen und gekämpft haben. \n🎭 Spektakuläre Unterhaltung & mittelalterlicher MarktNeben dem Lagerleben bietet Freienfels alles\, was ein echtes Mittelalterfest ausmacht:🎪 Gaukler\, Akrobaten und Schausteller\, die das Publikum mit Kunststücken und Schabernack begeistern🛍️ Über 150 Händler und Kunsthandwerker\, die einzigartige Waren feilbieten🍖 Historische Speisen\, die mit ihrem Duft die Sinne verführen🎶 Acht Musikgruppen auf zwei Bühnen\, die das Mittelalter klangvoll lebendig machen⚔️ 16 Ritter\, die in zehn atemberaubenden Turnieren an drei Tagen um Ruhm und Ehre kämpfen \nDie Freienfelser Ritterspiele sind mehr als eine Veranstaltung – sie sind eine Zeitreise\, ein Abenteuer und ein unvergessliches Erlebnis für die ganze Familie! Wer einmal hier war\, kommt immer wieder. Seid dabei und taucht ein in die magische Welt des Mittelalters! 🏰🔥⚔️ \nTriginta – 30 Jahre Freienfelser Ritterspiele – Große Revue – 30. Mai 2025 ab 19 Uhr\nTriginta annos Freienfelsium\, 30 Jahre Freienfels. Unter diesem Motto findet am 30. Mai 2025 eine einmalige Revue statt\, welche die Geschichte eines der größten und ältesten Mittelalterveranstaltungen Deutschlands würdigt. \n  \nMehr Infos hier!
URL:https://www.taunus4family.de/veranstaltung/freienfelser-ritterspiele-2025/
ATTACH;FMTTYPE=image/jpeg:https://www.taunus4family.de/wp-content/uploads/2025/03/iStock-fermate.jpg
END:VEVENT
END:VCALENDAR