BEGIN:VCALENDAR
VERSION:2.0
PRODID:-//taunus4family - ECPv5.14.1//NONSGML v1.0//EN
CALSCALE:GREGORIAN
METHOD:PUBLISH
X-WR-CALNAME:taunus4family
X-ORIGINAL-URL:https://www.taunus4family.de
X-WR-CALDESC:Veranstaltungen für taunus4family
BEGIN:VTIMEZONE
TZID:Europe/Helsinki
BEGIN:DAYLIGHT
TZOFFSETFROM:+0200
TZOFFSETTO:+0300
TZNAME:EEST
DTSTART:20250330T010000
END:DAYLIGHT
BEGIN:STANDARD
TZOFFSETFROM:+0300
TZOFFSETTO:+0200
TZNAME:EET
DTSTART:20251026T010000
END:STANDARD
END:VTIMEZONE
BEGIN:VEVENT
DTSTART;TZID=Europe/Helsinki:20250809T140000
DTEND;TZID=Europe/Helsinki:20250809T170000
DTSTAMP:20260422T032442
CREATED:20250724T074609Z
LAST-MODIFIED:20250724T074609Z
UID:51547-1754748000-1754758800@www.taunus4family.de
SUMMARY:Führungen "Keltisches Leben"
DESCRIPTION:Führung über den Keltenrundwanderweg\nJeden zweiten Samstag von April bis Oktober können große und kleine Entdecker auf dem Keltenrundwanderweg bei Oberursel eine spannende Zeitreise unternehmen. Bei einer familienfreundlichen Führung durch das Heidetränk-Oppidum – eine der bedeutendsten keltischen Siedlungen nördlich der Alpen – tauchen Sie ein in die Welt der Kelten. Der etwa 4\,3 Kilometer lange Rundweg ist ideal für Kinder und Erwachsene\, die Spaß an Natur und Geschichte haben\, und führt vorbei an eindrucksvollen Überresten keltischer Befestigungen\, alten Siedlungsplätzen und geheimnisvollen Fundstellen. \nAuf dem Weg erfahren Sie\, wie die Kelten vor über 2.000 Jahren lebten\, handelten und ihre Gemeinschaft organisierten. Die abwechslungsreiche Strecke durch den Taunus-Wald lädt zum Mitdenken\, Staunen und Fragenstellen ein – ideal für neugierige Kinder und interessierte Eltern. Der Weg ist gut ausgeschildert (erkennbar am Keltenkopf-Symbol) und lässt sich mit festem Schuhwerk gut bewältigen. Die Führungen werden von engagierten Kennern der Region geleitet und bieten lebendige Einblicke in die Vergangenheit – spannend\, lehrreich und unterhaltsam zugleich. Perfekt für einen besonderen Familienausflug in die Natur mit historischem Mehrwert! \n\nTermine \nSamstag\, 13.09.25 und Samstag\, 11.10.25 jeweils von 14 – 17 Uhr
URL:https://www.taunus4family.de/veranstaltung/fuehrungen-keltisches-leben/
LOCATION:Tourist-Info im Taunus-Informationszentrum\, Hohemarkstraße 192\, Oberursel\, 61440
CATEGORIES:Kunst und Kultur,Weiterbildung und Information
ATTACH;FMTTYPE=image/jpeg:https://www.taunus4family.de/wp-content/uploads/2025/07/Screenshot-2025-07-24-092941.jpg
ORGANIZER;CN="Taunus%20Touristik%20Service%20e.V.":MAILTO:ti@taunus.info
END:VEVENT
END:VCALENDAR