BEGIN:VCALENDAR
VERSION:2.0
PRODID:-//taunus4family - ECPv5.14.1//NONSGML v1.0//EN
CALSCALE:GREGORIAN
METHOD:PUBLISH
X-WR-CALNAME:taunus4family
X-ORIGINAL-URL:https://www.taunus4family.de
X-WR-CALDESC:Veranstaltungen für taunus4family
BEGIN:VTIMEZONE
TZID:Europe/Helsinki
BEGIN:DAYLIGHT
TZOFFSETFROM:+0200
TZOFFSETTO:+0300
TZNAME:EEST
DTSTART:20250330T010000
END:DAYLIGHT
BEGIN:STANDARD
TZOFFSETFROM:+0300
TZOFFSETTO:+0200
TZNAME:EET
DTSTART:20251026T010000
END:STANDARD
END:VTIMEZONE
BEGIN:VEVENT
DTSTART;TZID=Europe/Helsinki:20250322T150000
DTEND;TZID=Europe/Helsinki:20250322T160000
DTSTAMP:20260420T081723
CREATED:20250214T145229Z
LAST-MODIFIED:20250214T145229Z
UID:50227-1742655600-1742659200@www.taunus4family.de
SUMMARY:„Furzipups der Knatterdrache“ - Kindertheater
DESCRIPTION:„Furzipups der Knatterdrache“ \nnach dem Kult-Kinderbüchern von Kai Lüftner und Wiebke Rauers von Schauspielern in Walk-Akt-Kostümen gespielt. \n„Nein\, nicht viele Ungeheuer spucken\, wenn es ernst wird\, Feuer. Für Drachen ist es sogar Pflicht\, die meisten tun es – einer nicht!“ Knatter! Pups! Prö-ö-ö-ö-t! Sobald der kleine Drache Furzipups Feuer spucken will\, donnert es gewaltig. Ganz schön blöd\, wenn man mit den großen Drachen mithalten will. Oder?! Das grandios gereimte Drachenabenteuer von Kultautor und Songwriter Kai Lüftner erstmals als Schauspiel auf großer Bühne\, Lachen ist hier nicht nur für die kleinen Zuschauer garantiert. \nFurzipups bringt auch seine Freunde mit\, Hicksi Huhn\, Rüdiger das Mammut und viele andere sind mit dabei. \n  \nTickets\nKinder 18\,00 € / Erw. 20\,00 € Tickets reservieren per Mail unter: Theater-Tickets@gmx.de
URL:https://www.taunus4family.de/veranstaltung/furzipups-der-knatterdrache-kindertheater/
LOCATION:Haus Altkönig in Kronberg\, Altkönigstraße 30\, Kronberg im Taunus\, 61476 \, Deutschland
CATEGORIES:Theater und Bühnen
ATTACH;FMTTYPE=image/jpeg:https://www.taunus4family.de/wp-content/uploads/2025/02/Unbenannt-3.jpg
GEO:50.1874681;8.5379445
X-APPLE-STRUCTURED-LOCATION;VALUE=URI;X-ADDRESS=Haus Altkönig in Kronberg Altkönigstraße 30 Kronberg im Taunus 61476  Deutschland;X-APPLE-RADIUS=500;X-TITLE=Altkönigstraße 30:geo:8.5379445,50.1874681
END:VEVENT
END:VCALENDAR