BEGIN:VCALENDAR
VERSION:2.0
PRODID:-//taunus4family - ECPv5.14.1//NONSGML v1.0//EN
CALSCALE:GREGORIAN
METHOD:PUBLISH
X-WR-CALNAME:taunus4family
X-ORIGINAL-URL:https://www.taunus4family.de
X-WR-CALDESC:Veranstaltungen für taunus4family
BEGIN:VTIMEZONE
TZID:Europe/Helsinki
BEGIN:DAYLIGHT
TZOFFSETFROM:+0200
TZOFFSETTO:+0300
TZNAME:EEST
DTSTART:20250330T010000
END:DAYLIGHT
BEGIN:STANDARD
TZOFFSETFROM:+0300
TZOFFSETTO:+0200
TZNAME:EET
DTSTART:20251026T010000
END:STANDARD
END:VTIMEZONE
BEGIN:VEVENT
DTSTART;TZID=Europe/Helsinki:20250907T100000
DTEND;TZID=Europe/Helsinki:20250907T170000
DTSTAMP:20260422T074659
CREATED:20250823T170817Z
LAST-MODIFIED:20250823T170817Z
UID:51851-1757239200-1757264400@www.taunus4family.de
SUMMARY:Garagen- und Höfeflohmarkt in 35789 Weilmünster-Dietenhausen
DESCRIPTION:Spazieren Sie durch Dietenhausen\, verbringen Sie einen wundervollen Tag bei den Riehbeck\, stöbern Sie an den Ständen\, halten Sie Schwätzchen und genießen Sie die Leckereien. \nLagepläne hängen an der Bushaltestelle\, dem Dorfplatz und der Linde aus und sind außerdem erhältlich: \n\nim Hofladen am Bauernhof Schmidt\, Iserbachstr. 46\nbei Elke Schmidt\, Altenkircher Weg 3\nbei Ingeborg Schmid\, Atzbachstraße 4
URL:https://www.taunus4family.de/veranstaltung/garagen-und-hoefeflohmarkt-in-35789-weilmuenster-dietenhausen/
LOCATION:35789 Weilmünster Ortsteil Dietenhausen\, Weilmünster Dietenhausen\, 35789
CATEGORIES:Basare und Flohmärkte
ATTACH;FMTTYPE=image/jpeg:https://www.taunus4family.de/wp-content/uploads/2025/08/Screenshot_20250818_214107_GMX-Mail.jpg
ORGANIZER;CN="Ingeborg%20Schmid":MAILTO:schmid_ingeborg@web.de
END:VEVENT
END:VCALENDAR