BEGIN:VCALENDAR
VERSION:2.0
PRODID:-//taunus4family - ECPv5.14.1//NONSGML v1.0//EN
CALSCALE:GREGORIAN
METHOD:PUBLISH
X-WR-CALNAME:taunus4family
X-ORIGINAL-URL:https://www.taunus4family.de
X-WR-CALDESC:Veranstaltungen für taunus4family
BEGIN:VTIMEZONE
TZID:Europe/Helsinki
BEGIN:DAYLIGHT
TZOFFSETFROM:+0200
TZOFFSETTO:+0300
TZNAME:EEST
DTSTART:20240331T010000
END:DAYLIGHT
BEGIN:STANDARD
TZOFFSETFROM:+0300
TZOFFSETTO:+0200
TZNAME:EET
DTSTART:20241027T010000
END:STANDARD
END:VTIMEZONE
BEGIN:VEVENT
DTSTART;VALUE=DATE:20241026
DTEND;VALUE=DATE:20241028
DTSTAMP:20260422T214902
CREATED:20240820T170704Z
LAST-MODIFIED:20240820T170704Z
UID:48969-1729900800-1730073599@www.taunus4family.de
SUMMARY:Gesundheit im Fokus
DESCRIPTION:Gesundheit im Fokus bietet alles rund um einen gesunden Lifestyle – von Prävention und Fitness über Coaching und Alltagshilfen bis hin zu Wellness und Beauty. \nDas Messe-Event für Ihre Gesundheit: Entdecken. Erleben. Mitmachen\nTauchen Sie ein in eine Welt voller Wohlbefinden. Erfahren Sie\, wie Sie bewusste Entscheidungen für Ihre Gesundheit treffen und einen ausgeglichenen Lebensstil führen können. \nLassen Sie sich inspirieren\, erleben Sie Gesundheit aktiv und nehmen Sie wertvolle Tipps für ein gesundes Leben oder Unterstützung im Alltag mit nach Hause. Unsere Messe-Themen reichen von der ganzheitlichen Betrachtung des Menschen bis hin zu Gesundheitsbildung\, Persönlichkeitsentwicklung und sozialer Integration. \nWir freuen uns auf zwei spannende Tage mit Ihnen und Ihrer Familie. Bringen Sie gerne Ihre Kinder mit. Auch für sie haben wir Aussteller\, die spannende Angebote für sie haben.
URL:https://www.taunus4family.de/veranstaltung/gesundheit-im-fokus/
LOCATION:Stadthalle Oberursel\, Rathausplatz 2\, Oberursel/Ts\, 61440
CATEGORIES:Sport und Bewegung,Weiterbildung und Information
ATTACH;FMTTYPE=image/jpeg:https://www.taunus4family.de/wp-content/uploads/2024/08/Logo_FO-Gesundheit_Logo_4C.jpg
ORGANIZER;CN="fokus%20O.%20Forum%20der%20Selbstst%C3%A4ndigen%20Oberursel%20e.V.":MAILTO:info@fokus-o.de
GEO:50.1882384;8.5929737
X-APPLE-STRUCTURED-LOCATION;VALUE=URI;X-ADDRESS=Stadthalle Oberursel Rathausplatz 2 Oberursel/Ts 61440;X-APPLE-RADIUS=500;X-TITLE=Rathausplatz 2:geo:8.5929737,50.1882384
END:VEVENT
END:VCALENDAR