BEGIN:VCALENDAR
VERSION:2.0
PRODID:-//taunus4family - ECPv5.14.1//NONSGML v1.0//EN
CALSCALE:GREGORIAN
METHOD:PUBLISH
X-WR-CALNAME:taunus4family
X-ORIGINAL-URL:https://www.taunus4family.de
X-WR-CALDESC:Veranstaltungen für taunus4family
BEGIN:VTIMEZONE
TZID:Europe/Helsinki
BEGIN:DAYLIGHT
TZOFFSETFROM:+0200
TZOFFSETTO:+0300
TZNAME:EEST
DTSTART:20240331T010000
END:DAYLIGHT
BEGIN:STANDARD
TZOFFSETFROM:+0300
TZOFFSETTO:+0200
TZNAME:EET
DTSTART:20241027T010000
END:STANDARD
END:VTIMEZONE
BEGIN:VEVENT
DTSTART;TZID=Europe/Helsinki:20240906T180000
DTEND;TZID=Europe/Helsinki:20240906T210000
DTSTAMP:20260424T043218
CREATED:20240903T063447Z
LAST-MODIFIED:20240903T063447Z
UID:49055-1725645600-1725656400@www.taunus4family.de
SUMMARY:Glashüttener Kinderbasar
DESCRIPTION:Glashüttener Kinderbasar \nAm 06.09.2024 von 16:00 -17:30 Uhr Vorverkauf für Schwangere mit MuPa und einer Begleitperson\, ab 18:00 – 21:00 Uhr Basar für alle.\nHerbst-/Winterkleidung Gr. 50-176\, Babyzubehör\, Buggys\, Autositze\, Fahrzeuge\, Spielzeug\, Bücher\, CDs\, Spielkonsolen\, usw.
URL:https://www.taunus4family.de/veranstaltung/glashuettener-kinderbasar-2/
LOCATION:Bürgerhaus Glashütten\, Schloßborner Weg 2\, Glashütten\, 61479 \, Deutschland
CATEGORIES:Basare und Flohmärkte
ATTACH;FMTTYPE=image/jpeg:https://www.taunus4family.de/wp-content/uploads/2024/09/1000030949.jpg
ORGANIZER;CN="Ev.%20Lukasgemeinde%20Glash%C3%BCtten":MAILTO:basar.glashuetten@web.de
GEO:50.21575;8.40159
X-APPLE-STRUCTURED-LOCATION;VALUE=URI;X-ADDRESS=Bürgerhaus Glashütten Schloßborner Weg 2 Glashütten 61479  Deutschland;X-APPLE-RADIUS=500;X-TITLE=Schloßborner Weg 2:geo:8.40159,50.21575
END:VEVENT
END:VCALENDAR