BEGIN:VCALENDAR
VERSION:2.0
PRODID:-//taunus4family - ECPv5.14.1//NONSGML v1.0//EN
CALSCALE:GREGORIAN
METHOD:PUBLISH
X-WR-CALNAME:taunus4family
X-ORIGINAL-URL:https://www.taunus4family.de
X-WR-CALDESC:Veranstaltungen für taunus4family
BEGIN:VTIMEZONE
TZID:Europe/Helsinki
BEGIN:DAYLIGHT
TZOFFSETFROM:+0200
TZOFFSETTO:+0300
TZNAME:EEST
DTSTART:20250330T010000
END:DAYLIGHT
BEGIN:STANDARD
TZOFFSETFROM:+0300
TZOFFSETTO:+0200
TZNAME:EET
DTSTART:20251026T010000
END:STANDARD
END:VTIMEZONE
BEGIN:VEVENT
DTSTART;TZID=Europe/Helsinki:20251116T110000
DTEND;TZID=Europe/Helsinki:20251116T150000
DTSTAMP:20260423T115230
CREATED:20251005T134206Z
LAST-MODIFIED:20251005T134206Z
UID:52376-1763290800-1763305200@www.taunus4family.de
SUMMARY:Großer Diedenbergener Kinder- und Spielzeugbasar
DESCRIPTION:Wir laden zum kunterbunten Kinder- und Spielzeugbasar im Kindergarten Kunterbunt in Hofheim-Diedenbergen ein (Selbstverkäufer). Von Baby bis Teenies und Spielzeug ist alles dabei. Schwangere haben bereits am 10:30 Uhr Einlass. Euch erwartet zudem eine große Los-Tombola mit vielen tollen regionalen Gewinnen.\nFür das leibliche Wohl ist gesorgt.\nWir freuen uns auf Euch!
URL:https://www.taunus4family.de/veranstaltung/grosser-diedenbergener-kinder-und-spielzeugbasar/
LOCATION:Kindergarten Kunterbunt Diedenbergen\, Kastanienstrasse 2a\, 65719\, Hofheim
CATEGORIES:Basare und Flohmärkte
ATTACH;FMTTYPE=image/jpeg:https://www.taunus4family.de/wp-content/uploads/2025/10/da10a756-f85d-4f68-8282-b95bdcad250c.jpeg
END:VEVENT
END:VCALENDAR