BEGIN:VCALENDAR
VERSION:2.0
PRODID:-//taunus4family - ECPv5.14.1//NONSGML v1.0//EN
CALSCALE:GREGORIAN
METHOD:PUBLISH
X-WR-CALNAME:taunus4family
X-ORIGINAL-URL:https://www.taunus4family.de
X-WR-CALDESC:Veranstaltungen für taunus4family
BEGIN:VTIMEZONE
TZID:Europe/Helsinki
BEGIN:DAYLIGHT
TZOFFSETFROM:+0200
TZOFFSETTO:+0300
TZNAME:EEST
DTSTART:20240331T010000
END:DAYLIGHT
BEGIN:STANDARD
TZOFFSETFROM:+0300
TZOFFSETTO:+0200
TZNAME:EET
DTSTART:20241027T010000
END:STANDARD
END:VTIMEZONE
BEGIN:VEVENT
DTSTART;TZID=Europe/Helsinki:20240421T090000
DTEND;TZID=Europe/Helsinki:20240421T130000
DTSTAMP:20260424T221713
CREATED:20240318T172608Z
LAST-MODIFIED:20240318T172608Z
UID:47824-1713690000-1713704400@www.taunus4family.de
SUMMARY:Großer Flohmarkt "Rund ums Kind"
DESCRIPTION:Wahlweise in der Halle oder draußen auf dem Schulhof\nTisch ist selbst mitzubringen\nStandgebühr 12€ pro Stand (max. 3 Meter)
URL:https://www.taunus4family.de/veranstaltung/grosser-flohmarkt-rund-ums-kind-4/
LOCATION:Grundschule Eddersheim\, Am Weißen Stein 3\, Hattersheim OT Eddersheim\, 65795
CATEGORIES:Basare und Flohmärkte
ATTACH;FMTTYPE=image/jpeg:https://www.taunus4family.de/wp-content/uploads/2024/03/Flohmarktplakat-1-e1710782760722.jpg
GEO:50.04249;8.46797
X-APPLE-STRUCTURED-LOCATION;VALUE=URI;X-ADDRESS=Grundschule Eddersheim Am Weißen Stein 3 Hattersheim OT Eddersheim 65795;X-APPLE-RADIUS=500;X-TITLE=Am Weißen Stein 3:geo:8.46797,50.04249
END:VEVENT
END:VCALENDAR