BEGIN:VCALENDAR
VERSION:2.0
PRODID:-//taunus4family - ECPv5.14.1//NONSGML v1.0//EN
CALSCALE:GREGORIAN
METHOD:PUBLISH
X-WR-CALNAME:taunus4family
X-ORIGINAL-URL:https://www.taunus4family.de
X-WR-CALDESC:Veranstaltungen für taunus4family
BEGIN:VTIMEZONE
TZID:Europe/Helsinki
BEGIN:DAYLIGHT
TZOFFSETFROM:+0200
TZOFFSETTO:+0300
TZNAME:EEST
DTSTART:20250330T010000
END:DAYLIGHT
BEGIN:STANDARD
TZOFFSETFROM:+0300
TZOFFSETTO:+0200
TZNAME:EET
DTSTART:20251026T010000
END:STANDARD
END:VTIMEZONE
BEGIN:VEVENT
DTSTART;TZID=Europe/Helsinki:20250216T130000
DTEND;TZID=Europe/Helsinki:20250216T150000
DTSTAMP:20260423T195523
CREATED:20250209T131822Z
LAST-MODIFIED:20250209T131846Z
UID:50165-1739710800-1739718000@www.taunus4family.de
SUMMARY:Grosser Frühjahr/ Sommer Abgabebasar für Kindersachen
DESCRIPTION:Grosser vorsortierter Abgabebasar für Kindersachen\ner findet von 13.00 bis 15:00 Uhr in der Aartalhalle in Taunusstein -Neuhof statt.\nHier wird alles rund ums Kind angeboten\, Kleidung\, Spielsachen\, Kindersitze und vieles mehr\nWir bitten Rucksäcke zu Hause zu lassen !
URL:https://www.taunus4family.de/veranstaltung/grosser-fruehjahr-sommer-abgabebasar-fuer-kindersachen/
LOCATION:Aartalhalle in Taunusstein -Neuhof\, Ziegelhüttenweg\, 65232 Taunusstein- Neuhof\, Aartalhalle\, 65232\, Deutschland
CATEGORIES:Basare und Flohmärkte,Feste und Märkte
ATTACH;FMTTYPE=image/jpeg:https://www.taunus4family.de/wp-content/uploads/2025/02/dacf68b7-3530-49c6-aee8-471086d7563c.jpeg
ORGANIZER;CN="Sonnenkindergarten":MAILTO:Teddyeins@aol.com
END:VEVENT
END:VCALENDAR