BEGIN:VCALENDAR
VERSION:2.0
PRODID:-//taunus4family - ECPv5.14.1//NONSGML v1.0//EN
CALSCALE:GREGORIAN
METHOD:PUBLISH
X-WR-CALNAME:taunus4family
X-ORIGINAL-URL:https://www.taunus4family.de
X-WR-CALDESC:Veranstaltungen für taunus4family
BEGIN:VTIMEZONE
TZID:Europe/Helsinki
BEGIN:DAYLIGHT
TZOFFSETFROM:+0200
TZOFFSETTO:+0300
TZNAME:EEST
DTSTART:20250330T010000
END:DAYLIGHT
BEGIN:STANDARD
TZOFFSETFROM:+0300
TZOFFSETTO:+0200
TZNAME:EET
DTSTART:20251026T010000
END:STANDARD
END:VTIMEZONE
BEGIN:VEVENT
DTSTART;TZID=Europe/Helsinki:20250907T130000
DTEND;TZID=Europe/Helsinki:20250907T150000
DTSTAMP:20260422T054830
CREATED:20250705T083514Z
LAST-MODIFIED:20250705T083514Z
UID:51390-1757250000-1757257200@www.taunus4family.de
SUMMARY:Großer Herbst / Winter Abgabebasar für Kindersachen
DESCRIPTION:Am 07.09.2025 öffnet die Aartalhalle in Taunusstein -Neuhof ihre Türen für einen ganz besonderen Abgabebasar. Von 13.00 bis 15.00 Uhr können Besucher in einer großen Auswahl an Büchern\, Spielsachen\, Kinderkleidung in den Größen 50 bis 176\, Umstandsmode\, Kinderwagen-und sitze sowie verschiedene Fahrzeuge für Kinder stöbern und nach Herzenslust einkaufen.\nDieser Basar wird zugunsten der ASB – Kindertagesstätte Sonnengarten und der Sonnenschule in Neuhof veranstaltet. \nMit jedem Kauf unterstützen die Besucher direkt die Einrichtungen\, die für die Betreuung und Förderung von Kindern und Jugendlichen in der Region verantwortlich sind. \nWeitere Informationen und Verkäufernummern erhalten Sie ausschließlich unter\nAbgabebasar.neuhof@gmail.com\nAnmeldungen Für Helfer. 11.08.2025 bis zum 17.08.2025\nFür Verkäufer 18.08.2025 bis zum 19.08.2025 \nAlso wer gerne mal beim Basar helfen möchte\, sei es im Aufbau/ oder Abbau oder während des Basars\, dann einfach ab dem 11.08.2025 unter obiger Email Adresse anmelden . \nBesondere Anreize gibt es nicht nur beim Einkauf\, sondern auch an der Kuchentheke. Hier können sich die Besucher nach dem Stöbern mit leckerem Kuchen stärken oder die Köstlichkeiten mit nach Hause nehmen. Kuchenspenden sind herzlich willkommen! \nKuchenanmeldungen ab dem 11.08.2025 bis zum 06.09.2025 unter : \nKuchen.asb.basar@gmail.com \nKuchenspender und Schwangere ohne Begleitung haben bereits um 12.30 Uhr bevorzugten Einlass.\nBitte nur leere große Taschen mitnehmen!!\nNur Barzahlung
URL:https://www.taunus4family.de/veranstaltung/grosser-herbst-winter-abgabebasar-fuer-kindersachen/
LOCATION:Artalhalle Taunusstein-Neuhof\, Ziegelhüttenweg\, Taunusstein- Neuhof\, Aartalhalle\, 65232
CATEGORIES:Basare und Flohmärkte
ATTACH;FMTTYPE=image/jpeg:https://www.taunus4family.de/wp-content/uploads/2020/01/Fotolia_Nikolay-N.-Antonov.jpg
END:VEVENT
END:VCALENDAR