BEGIN:VCALENDAR
VERSION:2.0
PRODID:-//taunus4family - ECPv5.14.1//NONSGML v1.0//EN
CALSCALE:GREGORIAN
METHOD:PUBLISH
X-WR-CALNAME:taunus4family
X-ORIGINAL-URL:https://www.taunus4family.de
X-WR-CALDESC:Veranstaltungen für taunus4family
BEGIN:VTIMEZONE
TZID:Europe/Helsinki
BEGIN:DAYLIGHT
TZOFFSETFROM:+0200
TZOFFSETTO:+0300
TZNAME:EEST
DTSTART:20250330T010000
END:DAYLIGHT
BEGIN:STANDARD
TZOFFSETFROM:+0300
TZOFFSETTO:+0200
TZNAME:EET
DTSTART:20251026T010000
END:STANDARD
END:VTIMEZONE
BEGIN:VEVENT
DTSTART;TZID=Europe/Helsinki:20250906T120000
DTEND;TZID=Europe/Helsinki:20250906T140000
DTSTAMP:20260422T105545
CREATED:20250808T061241Z
LAST-MODIFIED:20250808T061241Z
UID:51696-1757160000-1757167200@www.taunus4family.de
SUMMARY:Großer sortierten Basar rund ums Kind
DESCRIPTION:Vorverkauf 10-12 Uhr: für Schwangere & Eltern mit Kleinkindern bis 2 Jahren (Mutterpass \, Versicherungskarte oder Kind mitbringen). Bitte daran denken: Kinderwagen durfen leider nicht in den Verkaufsraum \nWir sortieren für euch nach Größe und Thema\, so findet ihr am leichtesten was ihr sucht!\nDas könnt ihr bei uns kaufen: \nKinderkleidung bis Gr. 188\nTextilien wie Kinderschlafsäcke\, Bettwäsche\, Decken\, Nestchen\, Himmel\, Fußsäcke\nKinderschuhe (auch Haus-/Sportschuhe)\nUmstandsmode\nSpielsachen\, außer Kuscheltiere und Stoffgreiflinge\nKinderbücher\, Kinder-CD’s\, -MC’s und DVD’s sowie Kinder-PC-Software\nAccessoires wie Gürtel\, Mützen\, Handschuhe etc.\nKinderfahrzeuge\, wie Bobby Cars\, Roller\, Fahrräder etc.\nKinderwagen und Buggys\nKindermöbel und andere Gebrauchsgegenstände rund ums Kind wie Sterilisator\, Babywanne\, Töpfchen etc.
URL:https://www.taunus4family.de/veranstaltung/grosser-sortierten-basar-rund-ums-kind/
LOCATION:Bürgerhaus Rodheim v.d.H.\, Grabengasse 12 - 14\, Rosbach/Rodheim\, 61191
CATEGORIES:Basare und Flohmärkte
ATTACH;FMTTYPE=image/jpeg:https://www.taunus4family.de/wp-content/uploads/2025/08/IMG-20250806-WA0004.jpg
GEO:50.26726;8.70202
X-APPLE-STRUCTURED-LOCATION;VALUE=URI;X-ADDRESS=Bürgerhaus Rodheim v.d.H. Grabengasse 12 - 14 Rosbach/Rodheim 61191;X-APPLE-RADIUS=500;X-TITLE=Grabengasse 12 - 14:geo:8.70202,50.26726
END:VEVENT
END:VCALENDAR