BEGIN:VCALENDAR
VERSION:2.0
PRODID:-//taunus4family - ECPv5.14.1//NONSGML v1.0//EN
CALSCALE:GREGORIAN
METHOD:PUBLISH
X-WR-CALNAME:taunus4family
X-ORIGINAL-URL:https://www.taunus4family.de
X-WR-CALDESC:Veranstaltungen für taunus4family
BEGIN:VTIMEZONE
TZID:Europe/Helsinki
BEGIN:DAYLIGHT
TZOFFSETFROM:+0200
TZOFFSETTO:+0300
TZNAME:EEST
DTSTART:20240331T010000
END:DAYLIGHT
BEGIN:STANDARD
TZOFFSETFROM:+0300
TZOFFSETTO:+0200
TZNAME:EET
DTSTART:20241027T010000
END:STANDARD
END:VTIMEZONE
BEGIN:VEVENT
DTSTART;TZID=Europe/Helsinki:20240309T133000
DTEND;TZID=Europe/Helsinki:20240309T160000
DTSTAMP:20260424T131716
CREATED:20240119T072137Z
LAST-MODIFIED:20240119T072137Z
UID:47025-1709991000-1710000000@www.taunus4family.de
SUMMARY:Großer vorsortierter Kinderkleidungs- und Spielzeugbasar
DESCRIPTION:Auf zur nächsten Runde Schnäppchenjagd! \nEs handelt sich um einen großen vorsortierten Basar rund ums kleine und große Kind!!!! Du findest bei uns u.a. Baby-\, Kinder- und Teenagerkleidung (Größe 50/56 bis 176)\, Spielsachen\, Bücher\, Fahrräder\, Kinderwagen\, Autositze\, Umstandsmode…\nJede Menge Baby- und Kinderartikel und vieles mehr…\nGeöffnet haben wir von 13.30h bis 16.00h\, wobei Schwangere (mit Mutterpass) inkl. einer Begleitperson schon ab 13.00h stöbern können!\nSollte das Wetter mitspielen\, packen die Männer wieder den Grill für Euch aus und verwöhnen Euch mit Würstchen und Getränken! Frische Waffeln und kleine Leckereien an der Kuchentheke runden das Shoppingerlebnis ab. \nDer große Spielplatz direkt nebenan macht diesen Familienausflug perfekt! \nDer Elternverein Niederseelbach e.V. freut sich SO WAHNSINNIG auf Euch!!!!!!\nKommt zahlreich\, ladet Eure Freunde zu unserer Veranstaltung ein und erzählt allen davon :) \nNummernvergabe für Verkäufer läuft ausschließlich über www.basarlino.de/4869
URL:https://www.taunus4family.de/veranstaltung/grosser-vorsortierter-kinderkleidungs-und-spielzeugbasar-2/
LOCATION:Lenzenberghalle Niederseelbach\, Neugasse 12b\, Niedernhausen / Niederseelbach\, 65527
CATEGORIES:Basare und Flohmärkte
ATTACH;FMTTYPE=image/jpeg:https://www.taunus4family.de/wp-content/uploads/2024/01/1.jpg
ORGANIZER;CN="Elternverein%20Niederseelbach%20e.V.":MAILTO:elternverein-niederseelbach@gmx.de
GEO:50.1801396;8.2828568
X-APPLE-STRUCTURED-LOCATION;VALUE=URI;X-ADDRESS=Lenzenberghalle Niederseelbach Neugasse 12b Niedernhausen / Niederseelbach 65527;X-APPLE-RADIUS=500;X-TITLE=Neugasse 12b:geo:8.2828568,50.1801396
END:VEVENT
END:VCALENDAR