BEGIN:VCALENDAR
VERSION:2.0
PRODID:-//taunus4family - ECPv5.14.1//NONSGML v1.0//EN
CALSCALE:GREGORIAN
METHOD:PUBLISH
X-WR-CALNAME:taunus4family
X-ORIGINAL-URL:https://www.taunus4family.de
X-WR-CALDESC:Veranstaltungen für taunus4family
BEGIN:VTIMEZONE
TZID:Europe/Helsinki
BEGIN:DAYLIGHT
TZOFFSETFROM:+0200
TZOFFSETTO:+0300
TZNAME:EEST
DTSTART:20240331T010000
END:DAYLIGHT
BEGIN:STANDARD
TZOFFSETFROM:+0300
TZOFFSETTO:+0200
TZNAME:EET
DTSTART:20241027T010000
END:STANDARD
END:VTIMEZONE
BEGIN:VEVENT
DTSTART;TZID=Europe/Helsinki:20241101T180000
DTEND;TZID=Europe/Helsinki:20241101T200000
DTSTAMP:20260423T090327
CREATED:20241025T143931Z
LAST-MODIFIED:20241025T143931Z
UID:49492-1730484000-1730491200@www.taunus4family.de
SUMMARY:Gruselnacht auf Burg Reifenberg
DESCRIPTION:Am Freitag\, 01. November 2024 von 18.00 Uhr bis 20.00 Uhr lädt der Burgverein zur Gruselnacht auf die Burg Reifenberg. \nEs spukt an allen Ecken\, in der Hexenküche brodelt es und am Ende gibt es wie immer eine Feuershow! Für Essen und Trinken ist gesorgt.\nDie schrecklichsten Gespenster werden prämiert. Die Veranstaltung findet bei jedem Wetter statt! Der Eintritt ist für alle frei! \n  \nBitte beachtet\, dass wir uns bei schlechtem Wetter vorbehalten\, die Veranstaltung kurzfristig abzusagen.
URL:https://www.taunus4family.de/veranstaltung/gruselnacht-auf-burg-reifenberg-2/
LOCATION:Burg Reifenberg\, Schlosstraße 1\, Oberreifenberg\, 61389\, Deutschland
CATEGORIES:Feste und Märkte,Freizeit
ATTACH;FMTTYPE=image/jpeg:https://www.taunus4family.de/wp-content/uploads/2024/10/Unbenannt-2.jpg
ORGANIZER;CN="Burgverein%20Reifenberg%20e.%20V.":MAILTO:info@burgverein-reifenberg.de
GEO:50.2461989;8.4298041
X-APPLE-STRUCTURED-LOCATION;VALUE=URI;X-ADDRESS=Burg Reifenberg Schlosstraße 1 Oberreifenberg 61389 Deutschland;X-APPLE-RADIUS=500;X-TITLE=Schlosstraße 1:geo:8.4298041,50.2461989
END:VEVENT
END:VCALENDAR