BEGIN:VCALENDAR
VERSION:2.0
PRODID:-//taunus4family - ECPv5.14.1//NONSGML v1.0//EN
CALSCALE:GREGORIAN
METHOD:PUBLISH
X-WR-CALNAME:taunus4family
X-ORIGINAL-URL:https://www.taunus4family.de
X-WR-CALDESC:Veranstaltungen für taunus4family
BEGIN:VTIMEZONE
TZID:Europe/Helsinki
BEGIN:DAYLIGHT
TZOFFSETFROM:+0200
TZOFFSETTO:+0300
TZNAME:EEST
DTSTART:20250330T010000
END:DAYLIGHT
BEGIN:STANDARD
TZOFFSETFROM:+0300
TZOFFSETTO:+0200
TZNAME:EET
DTSTART:20251026T010000
END:STANDARD
END:VTIMEZONE
BEGIN:VEVENT
DTSTART;VALUE=DATE:20251017
DTEND;VALUE=DATE:20251103
DTSTAMP:20260422T115803
CREATED:20250822T083351Z
LAST-MODIFIED:20250824T134224Z
UID:51874-1760659200-1762127999@www.taunus4family.de
SUMMARY:„Halloween Frankenstein“ – der Alptraum kehrt zurück!
DESCRIPTION:Legendäres Gruselfest wieder auf Burg Königstein\n \nEine legendäre Burgruine\, nervenzerfetzende „Scarezones“ und dutzende HorrorKreaturen\, die in jeder Ecke auf „Opfer“ lauern. Auch die 47. Ausgabe des Horrorklassikers ist ein Superlativ des Grauens\, der Gruselfans in seinen Bann zieht! \nNach dem riesigen Erfolg von „Halloween Frankenstein“ am neuen Standort auf Burg Königstein im vergangenen Herbst\, legen die Veranstalter 2025 mit einem Gruselfest der Extraklasse nach! Unter dem Motto „The nightmare returns“ versammeln sich vom 17. Oktober bis 2. November wieder Vampire\, Zombies\, Werwölfe viele weitere Kreaturen der Finsternis auf der berühmten Burgruine im Taunus\, um Eure Alpträume Wirklichkeit werden zu lassen – größer\, schockierender und mit mehr düsteren Arealen als bisher. \nWährend der „Halloween“-Nächte wird sich die altehrwürdige Burgruine im Taunus in einen Ort verwandeln\, von dem das Böse und Dunkle Besitz ergriffen haben. Auch in seinem 47. Jahr hat das legendäre „Halloween Frankenstein“ nichts von seiner Faszination verloren. Damit das so bleibt\, setzen Macher und Monster auf ultimativen Grusel: Noch mehr Horror\, noch mehr Schrecken\, noch mehr Grauen! Horrorfans dürfen sich auf ein „Halloween“ der Superlative freuen: Dutzende Monster\, verteilt auf verschiedene Areale und eine riesige „Spielfläche“\, warten auf ihre „Opfer“ und machen das „Halloween Frankenstein“ auf Burg Königstein zum größten Event seiner Art in ganz Deutschland. Ein Gang des Grauens durch den Werwolf-Wald? Auf Tuchfühlung in der Gruft mit den Vampiren? Oder alptraumhafter Nervenkitzel mit Hexen und „Horrorclowns“? \n„Halloween Frankenstein“ bietet einen Parcour des Grauens\, der seinesgleichen sucht und aus gutem Grund Jahr für Jahr Fans aus aller Welt anzieht. „Halloween auf der Burg Frankenstein war seit über vier Jahrzehnten Jahren in Bewegung und wir sind stolz\, dass wir auch am neuen Standort auf Burg Königstein mit unseren Spielkonzepten voll überzeugen konnten“\, so „Halloween“-Veranstalter Ralph Eberhardt. Und stolz fügt er hinzu: „2018 wurden wir sogar von einem US Magazin als „beeindruckendstes Halloween Spektakel“ weltweit gekürt. Das war eine große Ehre für mein 100-köpfiges Halloween Team und mich!“ \nMan darf also gespannt sein\, wer in der alten Burgruine\, ihren Mauern\, Zinnen und Gruften wartet. Horrorclown „Pennywise“\, „Freddy Krüger“\, „Mikel Mayers“ oder Abgesandte aus der Unterwelt?! \n\n\nTermine\nFreitag und Samstag\, 17.10. und 18.10. 25/24.10. und 25.10.25/31.10. und 01.11.25  jeweils von 19 – 23 Uhr \n\nWir empfehlen diese Veranstaltung für Jugendliche ab 16 Jahren.\n\nTickets ab 37\,00 EUR inkl. kostenloser Busshuttle und RMV-Ticket. \n  \n  \nKinder Halloween Burg Königstein\n\n\n\n\n\nHalloween auf Burg Königstein ist ein Erlebnis für die ganze Familie – und am Sonntag steht der Kindertag im Mittelpunkt. Hier heißt es: spaßiger Grusel statt echter Horror! Kinder ab 6 Jahren können gemeinsam mit Eltern und Großeltern die Burg in einer fröhlich-magischen Atmosphäre erleben. Von 14 bis 18 Uhr erwarten die kleinen Besucher abwechslungsreiche\, kindgerechte Shows auf der Festwiese – mit vielen Überraschungen\, die für Lachen und Staunen sorgen. Das Besondere: Eltern zahlen den gleichen Eintritt wie ihre Kinder. So wird der Ausflug zu einem unvergesslichen Familienerlebnis. \nBitte beachten: Für Kinder unter 6 Jahren ist die Veranstaltung nicht geeignet\, da die Begegnung mit Hexen\, Monstern & Co. noch zu viel sein könnte. Sprecht mit euren Kindern über ihre Ängste – so wird Halloween auf der Burg für alle zu einem sicheren und unvergesslichen Abenteuer. Ein Tag voller Spaß\, Spannung und märchenhafter Burg-Atmosphäre – perfekt für kleine Gruselfans! \n  \nTermine Kinder Halloween\nSonntag\, 19.10./26.10./02.11.25  jeweils von 14 – 18 Uhr \nHalloween auf Burg Königstein ist auch eine tolle Möglichkeit\, um einen Kindergeburtstag zu feiern. Das Event bietet eine perfekte Kombination aus Spaß und Grusel und sorgt dafür\, dass der Geburtstag zu einem unvergesslichen Erlebnis wird. \nTickets ab 25 EUR inkl. kostenloser Busshuttle und RMV-Ticket. \n  \nVIP-Erlebnis auf Burg Königstein – Halloween in seiner exklusivsten Form \n\n\n\n\nMit einem VIP-Ticket genießen Sie Halloween auf Burg Königstein in einer ganz besonderen Atmosphäre: Sie profitieren von Priority Check-In und Bodycheck\, werden mit einem Aperitif („Blut der Verdammten“) empfangen und zu Ihrem reservierten Sitzplatz im beheizten VIP-Zelt begleitet. Von dort haben Sie den besten Blick auf die Hauptbühne – wettergeschützt und jederzeit zugänglich bis 22 Uhr. \nEin Highlight ist das exklusive 4-Gänge-Buffet: Von raffinierten Tapas und frischen Salaten über herzhafte warme Speisen bis hin zu einem üppigen Dessertbuffet – hier wird jeder Geschmack bedient. Dazu sind die gängigen Getränke bereits im Preis inbegriffen. \nNeben kulinarischem Genuss bietet das VIP-Ticket auch ein Meet & Greet mit den Monstern sowie Zugang zu einer Chillout-Zone mit einzigartigem Blick auf das Bühnengeschehen. \nDas VIP-Ticket verbindet erstklassige Gastronomie\, Komfort und Gruselatmosphäre – und macht Ihren Halloween-Abend auf Burg Königstein zu einem Erlebnis der Extraklasse. \n  \nNutze den ÖPNV\nFür die Anreise mit öffentlichen Verkehrsmitteln stehen diverse Buslinien\, sowie die Regionalbahn R 12 zur Verfügung. Die Zielhaltestellen sind „Königstein (Taunus) Stadtmitte“ und „Königstein (Taunus) Bahnhof“. Der Shuttlebus fährt ca. alle 10 min.\nBahn: RB12\nBus: Linien 253; 261; X26; 805; X27; 223; 57; 60; 80; 81; 83; 263; 803; 811; 815 \nAnreise Auto\nBitte entnehmen Sie die P+R Anschrift auf Ihrem Ticket.\nNutzen Sie ausschließlich die ausgeschilderten Park+Ride Parkplätze \n  \nMehr Infos & Tickets hier! \n 
URL:https://www.taunus4family.de/veranstaltung/halloween-frankenstein-der-alptraum-kehrt-zurueck/
LOCATION:Burgruine Königstein\, Burgweg\, Königstein im Taunus\, 61462\, Deutschland
CATEGORIES:Feste und Märkte
ATTACH;FMTTYPE=image/jpeg:https://www.taunus4family.de/wp-content/uploads/2025/08/Screenshot-2025-08-22-114206.jpg
ORGANIZER;CN="Halloween%20Veranstaltung%20GmbH":MAILTO:mail@frankenstein-halloween.de
GEO:50.1823112;8.4631879
X-APPLE-STRUCTURED-LOCATION;VALUE=URI;X-ADDRESS=Burgruine Königstein Burgweg Königstein im Taunus 61462 Deutschland;X-APPLE-RADIUS=500;X-TITLE=Burgweg:geo:8.4631879,50.1823112
END:VEVENT
END:VCALENDAR