BEGIN:VCALENDAR
VERSION:2.0
PRODID:-//taunus4family - ECPv5.14.1//NONSGML v1.0//EN
CALSCALE:GREGORIAN
METHOD:PUBLISH
X-WR-CALNAME:taunus4family
X-ORIGINAL-URL:https://www.taunus4family.de
X-WR-CALDESC:Veranstaltungen für taunus4family
BEGIN:VTIMEZONE
TZID:Europe/Helsinki
BEGIN:DAYLIGHT
TZOFFSETFROM:+0200
TZOFFSETTO:+0300
TZNAME:EEST
DTSTART:20250330T010000
END:DAYLIGHT
BEGIN:STANDARD
TZOFFSETFROM:+0300
TZOFFSETTO:+0200
TZNAME:EET
DTSTART:20251026T010000
END:STANDARD
END:VTIMEZONE
BEGIN:VEVENT
DTSTART;TZID=Europe/Helsinki:20250329T110000
DTEND;TZID=Europe/Helsinki:20250329T130000
DTSTAMP:20260420T061015
CREATED:20250226T175831Z
LAST-MODIFIED:20250226T175831Z
UID:50275-1743246000-1743253200@www.taunus4family.de
SUMMARY:Heilsberger Kinderkleiderbasar (Frühjahr / Sommer)
DESCRIPTION:Am Samstag\, den 29.03.2025 findet von 11:00 bis 13:00 Uhr wieder der beliebte Heilsberger Kinderkleiderbasar (Frühjahr / Sommer) statt.\nVeranstaltungsort: Sporthalle Heilsberg in der Carl Schurz Str. 33 in Bad Vilbel \nAngeboten werden gut erhaltene Frühjahrs- und SommerKleidung und Schuhe für Babies\, Kinder & Jugendliche und Schwangerschaftskleidung\, Spielsachen\, Kinderwagen und -räder uvm. Es gibt eine kleine Cafeteria. \nDer Umsatz der Cafeteria und 20 % der Verkaufserlöse werden an eine gemeinnützige Einrichtung gespendet. \nAuf Ihr Kommen freuen sich die Eltern der Initiative Kinderkleiderbasar Heilsberg! \nVerkaufs-Nummern und Informationen unter www.basarlino.de/HW54
URL:https://www.taunus4family.de/veranstaltung/heilsberger-kinderkleiderbasar-fruehjahr-sommer/
LOCATION:Sporthalle Heilsberg\, Carl-Schurz-Str. 33\, Bad Vilbel\, 61118
CATEGORIES:Basare und Flohmärkte
ATTACH;FMTTYPE=image/png:https://www.taunus4family.de/wp-content/uploads/2025/02/Kinderkleiderbasar-Heilsberg-25.png
ORGANIZER;CN="Elterninitiative%20Kinderkleiderbasar%20Heilsberg":MAILTO:kinderkleiderbasar-heilsberg@gmx.de
GEO:50.1658578;8.7230564
X-APPLE-STRUCTURED-LOCATION;VALUE=URI;X-ADDRESS=Sporthalle Heilsberg Carl-Schurz-Str. 33 Bad Vilbel 61118;X-APPLE-RADIUS=500;X-TITLE=Carl-Schurz-Str. 33:geo:8.7230564,50.1658578
END:VEVENT
END:VCALENDAR