BEGIN:VCALENDAR
VERSION:2.0
PRODID:-//taunus4family - ECPv5.14.1//NONSGML v1.0//EN
CALSCALE:GREGORIAN
METHOD:PUBLISH
X-WR-CALNAME:taunus4family
X-ORIGINAL-URL:https://www.taunus4family.de
X-WR-CALDESC:Veranstaltungen für taunus4family
BEGIN:VTIMEZONE
TZID:Europe/Helsinki
BEGIN:DAYLIGHT
TZOFFSETFROM:+0200
TZOFFSETTO:+0300
TZNAME:EEST
DTSTART:20250330T010000
END:DAYLIGHT
BEGIN:STANDARD
TZOFFSETFROM:+0300
TZOFFSETTO:+0200
TZNAME:EET
DTSTART:20251026T010000
END:STANDARD
END:VTIMEZONE
BEGIN:VEVENT
DTSTART;TZID=Europe/Helsinki:20250913T110000
DTEND;TZID=Europe/Helsinki:20250913T130000
DTSTAMP:20260422T131714
CREATED:20250823T170553Z
LAST-MODIFIED:20250823T170553Z
UID:51902-1757761200-1757768400@www.taunus4family.de
SUMMARY:Heilsberger Kinderkleiderbasar (Herbst/Winter)
DESCRIPTION:Am Samstag\, den 13.9.2025 findet von 11:00 bis 13:00 Uhr wieder der beliebte vorsortierte Heilsberger Kinderkleiderbasar (Herbst / Winter) statt. Schwangere können bereits ab 10:30 Uhr zum Einkaufen kommen. \nInformationen und Verkäufernummern unter\nwww.basarlino.de/RV76 \nDer Umsatz der Cafeteria und 20 % der Verkaufserlöse werden an eine gemeinnützige Einrichtung gespendet. \nAuf Ihr Kommen freuen sich die Eltern der Initiative Kinderkleiderbasar Heilsberg!
URL:https://www.taunus4family.de/veranstaltung/heilsberger-kinderkleiderbasar-herbst-winter-2/
LOCATION:Sporthalle Heilsberg\, Carl-Schurz-Str. 33\, Bad Vilbel\, 61118
CATEGORIES:Basare und Flohmärkte
ATTACH;FMTTYPE=image/png:https://www.taunus4family.de/wp-content/uploads/2025/08/Basar-Heilsberg.png
ORGANIZER;CN="Initiative%20Kinderkleiderbasar%20Heilsberg":MAILTO:manu@makaruju.de
GEO:50.1658578;8.7230564
X-APPLE-STRUCTURED-LOCATION;VALUE=URI;X-ADDRESS=Sporthalle Heilsberg Carl-Schurz-Str. 33 Bad Vilbel 61118;X-APPLE-RADIUS=500;X-TITLE=Carl-Schurz-Str. 33:geo:8.7230564,50.1658578
END:VEVENT
END:VCALENDAR