BEGIN:VCALENDAR
VERSION:2.0
PRODID:-//taunus4family - ECPv5.14.1//NONSGML v1.0//EN
CALSCALE:GREGORIAN
METHOD:PUBLISH
X-WR-CALNAME:taunus4family
X-ORIGINAL-URL:https://www.taunus4family.de
X-WR-CALDESC:Veranstaltungen für taunus4family
BEGIN:VTIMEZONE
TZID:Europe/Helsinki
BEGIN:DAYLIGHT
TZOFFSETFROM:+0200
TZOFFSETTO:+0300
TZNAME:EEST
DTSTART:20250330T010000
END:DAYLIGHT
BEGIN:STANDARD
TZOFFSETFROM:+0300
TZOFFSETTO:+0200
TZNAME:EET
DTSTART:20251026T010000
END:STANDARD
END:VTIMEZONE
BEGIN:VEVENT
DTSTART;TZID=Europe/Helsinki:20250913T130000
DTEND;TZID=Europe/Helsinki:20250913T160000
DTSTAMP:20260422T095717
CREATED:20250624T172411Z
LAST-MODIFIED:20250624T172411Z
UID:51292-1757768400-1757779200@www.taunus4family.de
SUMMARY:Heini Basar Herbst 2025
DESCRIPTION:Auf diesem Flohmarkt können Sie gebrauchte Kinderkleidung und Spielsachen kaufen und verkaufen. Der Erlös aus den Standgebühren sowie dem Getränke- und Essensverkauf kommt den Schüler:innen der Heinrich-Seliger-Schule zugute. \nKosten: Die Standgebühr beträgt 10\,- Euro und einen selbstgebackenen Kuchen/12 Muffins/deftiges Gebäck in vergleichbarer Menge. Bitte bezahlen Sie die Standgebühr in bar bei der Abgabe des Kuchens vor Ort. \nTickets: Die Ticketbuchung für Verkaufsstände erfolgt ausschließlich über die eventbrite Plattform unter dem Stichwort „Heini-Basar“ (www.eventbrite.de/e/heini-basar-herbst-2025-tickets-1413037225379). Pro Teilnehmer können maximal zwei Stände gebucht werden. \nVeranstaltungsort: Der Heini-Basar findet auf dem hinteren Schulhof der Heinrich-Seliger-Schule statt (Zugang über Max-Bock-Straße). \nVeranstaltungsdauer: Flohmarkt von 13:00 bis 16:00 Uhr. Aufbau ab 12:00 Uhr und Abbau bis spätestens 17:00 Uhr. \nStandnummer: Ihre Standnummer erhalten Sie bei Bezahlung der Standgebühr und Abgabe des Kuchens am Anmeldestand im Eingangsbereich des hinteren Schulhofs (Max-Bock-Straße). Wenn Sie mehrere Stände gebucht haben\, liegen diese in der Regel nebeneinander. \nKuchenspende: Bitte beschriften Sie Ihre Kuchenformen und -bleche mit Ihrem Namen und gerne auch der Kuchensorte. \nTische: Bitte bringen Sie Ihren eigenen Verkaufstisch mit. Die Stände haben ungefähr die Größe eines Tapeziertisches (ca. 3 Meter). \nKleiderständer: Gerne dürfen Sie auch Ihre eigenen Kleiderständer mitbringen. Die Kleiderständer müssen in die Abmessung des Standes passen. \nAufbau und Ausladen: Sie können Ihren Stand ab 12:00 Uhr aufbauen. Zum Ausladen dürfen Sie kurz die Zufahrt über die Max-Bock-Straße nutzen. Die Zufahrt ist nach dem Entladen umgehend wieder zu räumen. \nParken: Dauerhafte Parkmöglichkeiten finden Sie in der Umgebung. \nKinder: Schüler:innen der Heinrich-Seliger-Schule sind herzlich willkommen und dürfen ihre Spielsachen (keine Kleidung) kostenlos und ohne Anmeldung auf dem dem roten Fußballplatz des hinteren Schulhofs (Max-Bock-Straße) anbieten. \nAbbau: Die Veranstaltung endet um 16:00 Uhr. Bis spätestens 17:00 Uhr müssen Sie die Stände abgebaut haben. Sie sind für die Reinigung der Stände selbst verantwortlich. Kisten\, Verpackungsmaterial und Müll sowie nicht verkaufte Kleidung und Spielsachen müssen wieder mitgenommen werden. \nEssen und Trinken: Wir bieten verschiedene Kuchen\, deftiges Gebäck sowie Wurst vom Grill (Rind/Schwein/vegan) an. Zum Trinken gibt es Kaffee\, Tee\, Wasser und Apfelschorle. \nWetter: Wir behalten uns das Recht vor\, die Veranstaltung bei schlechtem Wetter abzusagen. \nStornierung: Stornierungen sind über den Link in Ihrer Bestätigungs-E-Mail möglich. Bitte machen Sie davon Gebrauch\, wenn Sie nicht teilnehmen können\, um Anderen die Teilnahme zu ermöglichen.
URL:https://www.taunus4family.de/veranstaltung/heini-basar-herbst-2025/
LOCATION:Heinrich-Seliger-Schule\, Mierendorffstraße 8\, Frankfurt am Main\, 60320
CATEGORIES:Basare und Flohmärkte
ATTACH;FMTTYPE=image/jpeg:https://www.taunus4family.de/wp-content/uploads/2024/10/iStock-Studio-Grand-Web.jpg
ORGANIZER;CN="Freunde%20und%20F%26ouml%3Brderer%20der%20Heinrich-Seliger-Schule%20e.V.":MAILTO:basar@heinrich-seliger-schule.de
END:VEVENT
END:VCALENDAR