BEGIN:VCALENDAR
VERSION:2.0
PRODID:-//taunus4family - ECPv5.14.1//NONSGML v1.0//EN
CALSCALE:GREGORIAN
METHOD:PUBLISH
X-WR-CALNAME:taunus4family
X-ORIGINAL-URL:https://www.taunus4family.de
X-WR-CALDESC:Veranstaltungen für taunus4family
BEGIN:VTIMEZONE
TZID:Europe/Helsinki
BEGIN:DAYLIGHT
TZOFFSETFROM:+0200
TZOFFSETTO:+0300
TZNAME:EEST
DTSTART:20250330T010000
END:DAYLIGHT
BEGIN:STANDARD
TZOFFSETFROM:+0300
TZOFFSETTO:+0200
TZNAME:EET
DTSTART:20251026T010000
END:STANDARD
END:VTIMEZONE
BEGIN:VEVENT
DTSTART;VALUE=DATE:20251011
DTEND;VALUE=DATE:20251013
DTSTAMP:20260422T031200
CREATED:20250929T155655Z
LAST-MODIFIED:20250929T155655Z
UID:52215-1760140800-1760313599@www.taunus4family.de
SUMMARY:Herbstmarkt in Idstein: Buntes Markttreiben für die ganze Familie
DESCRIPTION:Wenn in Idstein der Herbst Einzug hält\, verwandelt sich die historische Altstadt in ein lebendiges Markttreiben voller Farben\, Düfte und Musik. Am 11. und 12. Oktober 2025 lädt der Idsteiner Herbstmarkt Familien und Besucher zum Bummeln\, Entdecken und Genießen ein. Organisiert wird das Event von „Idstein aktiv“\, dem Zusammenschluss der Idsteiner Gewerbetreibenden\, die jedes Jahr für ein abwechslungsreiches Programm sorgen. \nVier Tage Vergnügen mit Budenzauber\, Musik\, Fahrgeschäften für Groß und Klein\nRund um den Löherplatz und den König-Adolf-Platz präsentieren Händler und Kunsthandwerker Mode\, Accessoires\, Schmuck\, Keramik\, Papeterie\, Kindersachen und kulinarische Spezialitäten aus der Region und der ganzen Welt. Kinder können sich bei der beliebten Kürbis-Schnitzaktion von „Pauls Bauernhof“ kreativ austoben oder durch die liebevoll dekorierten Gassen schlendern – überall gibt es Strohballen\, Zierkürbisse und herbstliche Pflanzen zu entdecken. \nMusikalische Walking-Acts\, Bühnenprogramm und viele Mitmachaktionen machen den Markt zu einem Erlebnis für alle Generationen. Und wer zwischendurch Appetit bekommt\, kann sich von Crêpes\, Waffeln\, Bratwurst\, Flammkuchen oder internationalen Spezialitäten verführen lassen. \nEin besonderes Highlight ist der verkaufsoffene Sonntag am 12. Oktober\, an dem die Geschäfte in der Innenstadt von 12 bis 18 Uhr geöffnet sind – ideal\, um den Marktbummel mit einem Einkaufsbummel zu verbinden. \nDer Idsteiner Herbstmarkt ist damit mehr als nur ein klassischer Markt: Er ist ein Treffpunkt für Familien\, Freunde und Nachbarn\, um gemeinsam die bunte Jahreszeit zu feiern.
URL:https://www.taunus4family.de/veranstaltung/herbstmarkt-in-idstein-buntes-markttreiben-fuer-die-ganze-familie/
LOCATION:Altstadt Idstein\, Killingerhaus\, Idstein\, 65510\, Deutschland
CATEGORIES:Feste und Märkte
ATTACH;FMTTYPE=image/jpeg:https://www.taunus4family.de/wp-content/uploads/2025/09/herbstmarkt.jpg
ORGANIZER;CN="Interessengemeinschaft%20Wirtschaft%20e.V.%20%E2%80%9C%20Idstein%20aktiv%20%E2%80%9E":MAILTO:vorstand@idstein-aktiv.de
GEO:50.2211201;8.2695713
X-APPLE-STRUCTURED-LOCATION;VALUE=URI;X-ADDRESS=Altstadt Idstein Killingerhaus Idstein 65510 Deutschland;X-APPLE-RADIUS=500;X-TITLE=Killingerhaus:geo:8.2695713,50.2211201
END:VEVENT
END:VCALENDAR