BEGIN:VCALENDAR
VERSION:2.0
PRODID:-//taunus4family - ECPv5.14.1//NONSGML v1.0//EN
CALSCALE:GREGORIAN
METHOD:PUBLISH
X-WR-CALNAME:taunus4family
X-ORIGINAL-URL:https://www.taunus4family.de
X-WR-CALDESC:Veranstaltungen für taunus4family
BEGIN:VTIMEZONE
TZID:Europe/Helsinki
BEGIN:DAYLIGHT
TZOFFSETFROM:+0200
TZOFFSETTO:+0300
TZNAME:EEST
DTSTART:20250330T010000
END:DAYLIGHT
BEGIN:STANDARD
TZOFFSETFROM:+0300
TZOFFSETTO:+0200
TZNAME:EET
DTSTART:20251026T010000
END:STANDARD
END:VTIMEZONE
BEGIN:VEVENT
DTSTART;TZID=Europe/Helsinki:20250920T120000
DTEND;TZID=Europe/Helsinki:20250920T130000
DTSTAMP:20260422T012410
CREATED:20250724T152154Z
LAST-MODIFIED:20250929T155900Z
UID:51574-1758369600-1758373200@www.taunus4family.de
SUMMARY:Hexenturmführung in Idstein
DESCRIPTION:Der Hexenturm ist nicht nur das Wahrzeichen Idsteins\, sondern auch ein echtes Herzensstück der Stadt. Die rund 42 Meter hohe Anlage bietet spannende Einblicke in die Geschichte und Architektur des ältesten Bauwerks der Stadt. \nBeim Rundgang geht es durch verschiedene Räume und über einen historischen Wehrgang. Durch das sogenannte Angstloch fällt der Blick in das frühere Verlies. Den Abschluss bildet der Aufstieg über eine steile Holztreppe bis zum höchsten begehbaren Punkt des Turms – mit einem beeindruckenden Ausblick über die Idsteiner Altstadt. \nTreffpunkt: vor der Tourist-Info Idstein im KillingerhausPreis: 5\,00 € – Tickets sind in der Tourist-Info erhältlich \nHinweis: Aufgrund der beengten Verhältnisse im Inneren des Turms ist die Gruppengröße pro Führung auf maximal 25 Personen begrenzt. \nWeitere Termine: Samstag\, 30.08.25 und 20.09.25 und 11.10.25
URL:https://www.taunus4family.de/veranstaltung/hexenturmfuehrung-in-idstein/2025-09-20/
LOCATION:Stadt Idstein – Tourist Info\, König-Adolf-Platz 12\, Idstein\, 65510\, Deutschland
CATEGORIES:Kunst und Kultur,Weiterbildung und Information
ATTACH;FMTTYPE=image/jpeg:https://www.taunus4family.de/wp-content/uploads/2025/07/Grandpierre-Design.jpg
ORGANIZER;CN="Magistrat%20der%20%20Stadt%20Idstein":MAILTO:Birgit.Borchardt@idstein.de
GEO:50.2212819;8.269525
X-APPLE-STRUCTURED-LOCATION;VALUE=URI;X-ADDRESS=Stadt Idstein – Tourist Info König-Adolf-Platz 12 Idstein 65510 Deutschland;X-APPLE-RADIUS=500;X-TITLE=König-Adolf-Platz 12:geo:8.269525,50.2212819
END:VEVENT
END:VCALENDAR