BEGIN:VCALENDAR
VERSION:2.0
PRODID:-//taunus4family - ECPv5.14.1//NONSGML v1.0//EN
CALSCALE:GREGORIAN
METHOD:PUBLISH
X-WR-CALNAME:taunus4family
X-ORIGINAL-URL:https://www.taunus4family.de
X-WR-CALDESC:Veranstaltungen für taunus4family
BEGIN:VTIMEZONE
TZID:Europe/Helsinki
BEGIN:DAYLIGHT
TZOFFSETFROM:+0200
TZOFFSETTO:+0300
TZNAME:EEST
DTSTART:20250330T010000
END:DAYLIGHT
BEGIN:STANDARD
TZOFFSETFROM:+0300
TZOFFSETTO:+0200
TZNAME:EET
DTSTART:20251026T010000
END:STANDARD
END:VTIMEZONE
BEGIN:VEVENT
DTSTART;TZID=Europe/Helsinki:20250315T120000
DTEND;TZID=Europe/Helsinki:20250315T130000
DTSTAMP:20260422T182914
CREATED:20250214T144641Z
LAST-MODIFIED:20250214T144641Z
UID:50224-1742040000-1742043600@www.taunus4family.de
SUMMARY:Hexenturmführung
DESCRIPTION:Der Idsteiner Hexenturm ist nicht nur das Wahrzeichen der Stadt\, für die Einwohner ist er eine Herzensangelegenheit. Bei Ihrem Besuch des 42 m hohen Turmes sehen Sie durch das Angstloch in das sogenannte Verlies und erkunden verschiedene Räume sowie einen Wehrgang. Schließlich erreichen Sie über eine steile Holztreppe den höchsten begehbaren Punkt des ältesten Bauwerk Idsteins und genießen einen wunderschönen Blick über die Altstadt.\nTreffpunkt ist vor der Tourist-Info Idstein / Killingerhaus.\nKarten sind in der Tourist-Info Idstein im Killingerhaus zum Preis von 5\,00 € erhältlich. \nAufgrund der Enge im Hexenturm selbst werden pro Führung max. 25 Teilnehmer mitgenommen. \n  \nTicket\nErwachsene 5 EUR
URL:https://www.taunus4family.de/veranstaltung/hexenturmfuehrung/
LOCATION:Stadt Idstein – Tourist Info\, König-Adolf-Platz 12\, Idstein\, 65510\, Deutschland
CATEGORIES:Kunst und Kultur
ATTACH;FMTTYPE=image/jpeg:https://www.taunus4family.de/wp-content/uploads/2017/01/hexenturm-idstein.jpg
ORGANIZER;CN="Magistrat%20der%20%20Stadt%20Idstein":MAILTO:Birgit.Borchardt@idstein.de
GEO:50.2212819;8.269525
X-APPLE-STRUCTURED-LOCATION;VALUE=URI;X-ADDRESS=Stadt Idstein – Tourist Info König-Adolf-Platz 12 Idstein 65510 Deutschland;X-APPLE-RADIUS=500;X-TITLE=König-Adolf-Platz 12:geo:8.269525,50.2212819
END:VEVENT
END:VCALENDAR