BEGIN:VCALENDAR
VERSION:2.0
PRODID:-//taunus4family - ECPv5.14.1//NONSGML v1.0//EN
CALSCALE:GREGORIAN
METHOD:PUBLISH
X-WR-CALNAME:taunus4family
X-ORIGINAL-URL:https://www.taunus4family.de
X-WR-CALDESC:Veranstaltungen für taunus4family
BEGIN:VTIMEZONE
TZID:Europe/Helsinki
BEGIN:DAYLIGHT
TZOFFSETFROM:+0200
TZOFFSETTO:+0300
TZNAME:EEST
DTSTART:20240331T010000
END:DAYLIGHT
BEGIN:STANDARD
TZOFFSETFROM:+0300
TZOFFSETTO:+0200
TZNAME:EET
DTSTART:20241027T010000
END:STANDARD
END:VTIMEZONE
BEGIN:VEVENT
DTSTART;TZID=Europe/Helsinki:20240316T110000
DTEND;TZID=Europe/Helsinki:20240316T190000
DTSTAMP:20260419T224151
CREATED:20240305T144540Z
LAST-MODIFIED:20240316T063103Z
UID:42729-1710586800-1710615600@www.taunus4family.de
SUMMARY:Historischer Ostermarkt auf der Ronneburg 2024
DESCRIPTION:Seit vielen Jahren finden auf der Ronneburg die bekannten und beliebten Mittelaltermärkte statt. Die Burg und das darum liegende Gelände verwandeln sich während dieser historischen Märkte in einen pulsierenden Marktplatz mit vielseitigen Attraktionen\, Händlern\, Tavernen\, Handwerkern\, Gauklern und Musikern. Das bunte Markttreiben mit seinen Angeboten animiert alle zum Mitmachen und versetzt die Burg in die Zeiten Ihres Ursprungs zurück. Hier erleben die Besucher Geschichte. \nEs ist wieder Ostermarkt auf der Ronneburg\nEs ist wieder soweit! An zwei Wochenenden öffnet die Burg Ronneburg erneut ihre Tore für den beliebten „Historischen Ostermarkt“. Rechtzeitig zum Frühlingsanfang erwacht die hochmittelalterliche Burganlage zum ersten Markt der Saison zum Leben. \nEin bunter Mix aus Warenhändlern aus nah und fern\, Handwerkern\, die ihre Künste präsentieren\, Mundschenken und Küchenmeistereien\, die den Gaumen mit vielfältigen Genüssen verwöhnen\, wird die Burg in einen lebendigen Marktplatz verwandeln. Der Markt wird von zahlreichen Attraktionen für Jung und Alt begleitet\, darunter Bogenschießen\, Münzprägung\, Kinderritterturniere\, Feuershows\, Gaukler\, Zauberer\, Märchenerzähler und vieles mehr. Freuen Sie sich auf ein erlebnisreiches Wochenende voller mittelalterlichem Flair! \nEin Spaß für die ganze Familie! \n  \nTermine\n16.03. + 17.03.24\n23.03.+ 24.03.24 \nÖffnungszeiten\n16.03. + 17.03.24\nSa: 11-19 Uhr So: 10-18 Uhr \n23.03. + 24.03.24\nSa: 11-19 Uhr So: 10-18 Uhr \nEintrittspreise\nErwachsene: 9\,- €\nKinder: 7\,- €\nErmäßigt*: 8\,- €\nHistorisch Gewandete (von Kopf bis Fuß): 5\,- €\nFamilienkarte 1 Kind: 23\,- €\nFamilienkarte 2 Kinder: 29\,- €\nFamilienkarte 3 Kinder: 35\,- € \n*Schüler\, Studenten\, Senioren\, Behinderte – jeweils mit Nachweis \nParken: 3\,- €
URL:https://www.taunus4family.de/veranstaltung/historischer-ostermarkt-auf-der-ronneburg-2024/
LOCATION:Burg Ronneburg in Hessen\, Burg Ronneburg\, Ronneburg\, 63549\, Deutschland
CATEGORIES:Feste und Märkte
ATTACH;FMTTYPE=image/jpeg:https://www.taunus4family.de/wp-content/uploads/2023/02/Ostermarkt-scaled.jpeg
ORGANIZER;CN="Burg%20Ronneburg":MAILTO:orga@burg-ronneburg.de
GEO:50.238408;9.060745
X-APPLE-STRUCTURED-LOCATION;VALUE=URI;X-ADDRESS=Burg Ronneburg in Hessen Burg Ronneburg Ronneburg 63549 Deutschland;X-APPLE-RADIUS=500;X-TITLE=Burg Ronneburg:geo:9.060745,50.238408
END:VEVENT
END:VCALENDAR