BEGIN:VCALENDAR
VERSION:2.0
PRODID:-//taunus4family - ECPv5.14.1//NONSGML v1.0//EN
CALSCALE:GREGORIAN
METHOD:PUBLISH
X-WR-CALNAME:taunus4family
X-ORIGINAL-URL:https://www.taunus4family.de
X-WR-CALDESC:Veranstaltungen für taunus4family
BEGIN:VTIMEZONE
TZID:Europe/Helsinki
BEGIN:DAYLIGHT
TZOFFSETFROM:+0200
TZOFFSETTO:+0300
TZNAME:EEST
DTSTART:20250330T010000
END:DAYLIGHT
BEGIN:STANDARD
TZOFFSETFROM:+0300
TZOFFSETTO:+0200
TZNAME:EET
DTSTART:20251026T010000
END:STANDARD
END:VTIMEZONE
BEGIN:VEVENT
DTSTART;VALUE=DATE:20250405
DTEND;VALUE=DATE:20250407
DTSTAMP:20260422T164211
CREATED:20250319T093604Z
LAST-MODIFIED:20250323T111415Z
UID:50585-1743811200-1743983999@www.taunus4family.de
SUMMARY:Historischer Ostermarkt auf der Ronneburg 2025
DESCRIPTION:Seit vielen Jahren zieht die Ronneburg mit ihren bekannten und beliebten Mittelaltermärkten zahlreiche Besucher an. Während dieser historischen Veranstaltungen verwandeln sich die Burg und ihr umliegendes Gelände in einen lebendigen Marktplatz voller faszinierender Attraktionen. Händler\, Tavernen\, Handwerker\, Gaukler und Musiker sorgen für ein einzigartiges Flair\, das zum Verweilen und Mitmachen einlädt. Das bunte Treiben versetzt die Burg in ihre Ursprungszeit zurück und lässt Geschichte hautnah erlebbar werden. \nDer Historische Ostermarkt auf der Ronneburg\nDer Frühling naht\, und mit ihm öffnet die Ronneburg erneut ihre Tore für den beliebten Historischen Ostermarkt! An zwei Wochenenden erwacht die beeindruckende Burganlage zum Leben und lädt Besucher ein\, in die faszinierende Welt des Mittelalters einzutauchen. \nFreuen Sie sich auf ein abwechslungsreiches Programm für die ganze Familie! Auf dem Historischen Ostermarkt der Ronneburg präsentieren Händler und Handwerker aus nah und fern ihre traditionellen Kunstfertigkeiten\, während Küchenmeister und Mundschenken mit köstlichen Speisen und Getränken verwöhnen. Kinder können sich beim Münzprägen\, im Kinderritterturnier oder bei spannenden Märchenerzählungen verzaubern lassen. Atemberaubende Feuershows\, Gaukler und Zauberer sorgen für beste Unterhaltung\, während Aktivitäten wie Bogenschießen zum Mitmachen einladen. \nDieser Ostermarkt ist weit mehr als nur ein Markt – er ist eine lebendige Zeitreise in eine faszinierende Epoche. Die beeindruckende Kulisse der Ronneburg\, das bunte Markttreiben und die zahlreichen Attraktionen machen den Besuch zu einem unvergesslichen Erlebnis für Groß und Klein. \n  \nWeitere Termine\n12. 04. – 13.04.25 \nÖffnungszeiten und Eintrittspreise \nDer Markt findet an beiden Tagen zu folgenden Zeiten statt: \nSamstag: 11:00 – 19:00 Uhr\nSonntag: 10:00 – 18:00 Uhr \n\nEintrittspreise \nErwachsene: 9\,- €\nKinder: 7\,- €\nErmäßigt*: 8\,- €\nHistorisch Gewandete: 5\,- €\nFamilienkarten ab 23\,- € (inkl. Parken: 3\,- €) \n(*Schüler\, Studenten\, Senioren und Behinderte mit Nachweis) \n 
URL:https://www.taunus4family.de/veranstaltung/historischer-ostermarkt-auf-der-ronneburg-2025/
LOCATION:Burg Ronneburg in Hessen\, Burg Ronneburg\, Ronneburg\, 63549\, Deutschland
CATEGORIES:Feste und Märkte
ATTACH;FMTTYPE=image/jpeg:https://www.taunus4family.de/wp-content/uploads/2023/02/Ostermarkt-scaled.jpeg
ORGANIZER;CN="Burg%20Ronneburg":MAILTO:orga@burg-ronneburg.de
GEO:50.238408;9.060745
X-APPLE-STRUCTURED-LOCATION;VALUE=URI;X-ADDRESS=Burg Ronneburg in Hessen Burg Ronneburg Ronneburg 63549 Deutschland;X-APPLE-RADIUS=500;X-TITLE=Burg Ronneburg:geo:9.060745,50.238408
END:VEVENT
END:VCALENDAR