BEGIN:VCALENDAR
VERSION:2.0
PRODID:-//taunus4family - ECPv5.14.1//NONSGML v1.0//EN
CALSCALE:GREGORIAN
METHOD:PUBLISH
X-WR-CALNAME:taunus4family
X-ORIGINAL-URL:https://www.taunus4family.de
X-WR-CALDESC:Veranstaltungen für taunus4family
BEGIN:VTIMEZONE
TZID:Europe/Helsinki
BEGIN:DAYLIGHT
TZOFFSETFROM:+0200
TZOFFSETTO:+0300
TZNAME:EEST
DTSTART:20240331T010000
END:DAYLIGHT
BEGIN:STANDARD
TZOFFSETFROM:+0300
TZOFFSETTO:+0200
TZNAME:EET
DTSTART:20241027T010000
END:STANDARD
END:VTIMEZONE
BEGIN:VEVENT
DTSTART;VALUE=DATE:20241130
DTEND;VALUE=DATE:20241216
DTSTAMP:20260426T072107
CREATED:20241103T122245Z
LAST-MODIFIED:20241103T122449Z
UID:49614-1732924800-1734307199@www.taunus4family.de
SUMMARY:Historischer Weihnachtsmarkt auf der Ronneburg
DESCRIPTION:Bis in alle Winkel weihnachtlich gefüllt\nEs duftet nach heißem Met\, im oberen Burghof erhebt sich der Weihnachtsbaum und der Nikolaus mit seinem Engel begeistert die Kinder. Historische Waren erfreuen das Auge\, Handwerker & Ritter tragen zur Atmosphäre bei. Harfenspieler & Minnesänger erfreuen mit alten Liedern\, Feuerspucker & Gaukler unterhalten und die Weihnachtsgeschichte wird als lebendes Krippenspiel aufgeführt. \nAn den ersten drei Adventswochenenden lädt die Ronneburg ein\, das Jahr auf dem zauberhaften und romantischen Weihnachtsmarkt ausklingen zu lassen. In der gesamten Burg werden dann unzählige kleine Stände die Räume füllen und bei Glühwein\, Waffeln und vielen anderen leckeren „Spezereien“ für einen vorzüglichen Gaumenschmauß sorgen. Selbstverständlich wird es auch wieder einen mittelalterlichen Markt vor der Burg\, das „Lebendiges Krippenspiel“ und viele weitere Attraktionen geben. \n  \nParken\n3 EUR \n  \nÖffnungszeiten \n30.11. & 01.12.24\nSa: 11-20 Uhr So: 10-18 Uhr \n07.12. & 08.12.24\nSa: 11-20 Uhr So: 10-18 Uhr \n14.12. & 15.12.24\nSa: 11-20 Uhr So: 10-18 Uhr
URL:https://www.taunus4family.de/veranstaltung/historischer-weihnachtsmarkt-auf-der-ronneburg/
LOCATION:Burg Ronneburg in Hessen\, Burg Ronneburg\, Ronneburg\, 63549\, Deutschland
CATEGORIES:Feste und Märkte
ATTACH;FMTTYPE=image/jpeg:https://www.taunus4family.de/wp-content/uploads/2024/11/Weihnachtsmarkt.jpg
ORGANIZER;CN="Burg%20Ronneburg":MAILTO:orga@burg-ronneburg.de
GEO:50.238408;9.060745
X-APPLE-STRUCTURED-LOCATION;VALUE=URI;X-ADDRESS=Burg Ronneburg in Hessen Burg Ronneburg Ronneburg 63549 Deutschland;X-APPLE-RADIUS=500;X-TITLE=Burg Ronneburg:geo:9.060745,50.238408
END:VEVENT
END:VCALENDAR