BEGIN:VCALENDAR
VERSION:2.0
PRODID:-//taunus4family - ECPv5.14.1//NONSGML v1.0//EN
CALSCALE:GREGORIAN
METHOD:PUBLISH
X-WR-CALNAME:taunus4family
X-ORIGINAL-URL:https://www.taunus4family.de
X-WR-CALDESC:Veranstaltungen für taunus4family
BEGIN:VTIMEZONE
TZID:Europe/Helsinki
BEGIN:DAYLIGHT
TZOFFSETFROM:+0200
TZOFFSETTO:+0300
TZNAME:EEST
DTSTART:20250330T010000
END:DAYLIGHT
BEGIN:STANDARD
TZOFFSETFROM:+0300
TZOFFSETTO:+0200
TZNAME:EET
DTSTART:20251026T010000
END:STANDARD
END:VTIMEZONE
BEGIN:VEVENT
DTSTART;TZID=Europe/Helsinki:20250615T100000
DTEND;TZID=Europe/Helsinki:20250615T160000
DTSTAMP:20260420T094732
CREATED:20250531T080824Z
LAST-MODIFIED:20250531T080824Z
UID:51170-1749981600-1750003200@www.taunus4family.de
SUMMARY:Höfe Flohmarkt Hofheim-Wallau
DESCRIPTION:Einladung zum Stöbern\, Entdecken und Verweilen – Höfeflohmarkt in Wallau \nWallau verwandelt sich am Sonntag\, 15. Juni 2025\, in ein buntes Paradies für Schatzsucher\, Trödelfans und Neugierige. Von 10.00 bis 16.00 Uhr lädt der Vereinsring herzlich zum bunten Höfeflohmarkt ein.\nÜber 100 Anwohner öffnen ihre Höfe\, Vorgärten und Garagen – und bieten in persönlicher\, entspannter Atmosphäre eine breite Vielfalt an Flohmarkt-Schätzen: Von liebevoll erhaltenem Trödel über Kunst und Handwerk bis hin zu Kleidung und Raritäten ist alles dabei. \nEin Flohmarkt mit besonderem Flair\nAnders als bei klassischen Märkten findet der Verkauf nicht zentral auf Straßen oder Plätzen statt\, sondern dezentral – direkt auf privatem Grund. Besucher erleben Wallau von seiner authentischsten Seite\, ganz ohne Straßensperrungen. So bleibt der Ortskern durchlässig\, offen und charmant. \nWallau von seiner schönsten Seite\nAuch der idyllische Recepturhof im Zentrum Wallaus wird an diesem Tag zur Anlaufstelle für Flohmarktfreunde. Dort gibt es nicht nur weitere Stände zu entdecken\, sondern auch die Möglichkeit\, sich bei einem Glas Wein oder einem kühlen Getränk eine kleine Auszeit zu gönnen. Ein überschaubares Snackangebot lädt zum Verweilen ein – ganz bewusst reduziert\, um die Wallauer Gastronomie zu stärken.\nAlle Infos mit Lageplan der teilenehmenden Höfe\, gibt es auf der Website des Vereinsrings. (https://vereinsring-wallau.de/hoefe-flohmarkt) \nDer Vereinsring Wallau freut sich auf viele neugierige Besucherinnen und Besucher\, auf inspirierende Begegnungen und einen fröhlichen\, lebendigen Tag mitten in Wallau. Kommen Sie vorbei – es lohnt sich!
URL:https://www.taunus4family.de/veranstaltung/hoefe-flohmarkt-hofheim-wallau/
LOCATION:65719 Hofheim-Wallau\, Hofheim-Wallau\, 65719
CATEGORIES:Basare und Flohmärkte
ATTACH;FMTTYPE=image/jpeg:https://www.taunus4family.de/wp-content/uploads/2025/05/Screenshot-2025-05-31-100629.jpg
ORGANIZER;CN="Vereinsring%20Wallau%20e.V.":MAILTO:Vorstand@vereinsring-wallau.de
END:VEVENT
END:VCALENDAR