BEGIN:VCALENDAR
VERSION:2.0
PRODID:-//taunus4family - ECPv5.14.1//NONSGML v1.0//EN
CALSCALE:GREGORIAN
METHOD:PUBLISH
X-WR-CALNAME:taunus4family
X-ORIGINAL-URL:https://www.taunus4family.de
X-WR-CALDESC:Veranstaltungen für taunus4family
BEGIN:VTIMEZONE
TZID:Europe/Helsinki
BEGIN:DAYLIGHT
TZOFFSETFROM:+0200
TZOFFSETTO:+0300
TZNAME:EEST
DTSTART:20240331T010000
END:DAYLIGHT
BEGIN:STANDARD
TZOFFSETFROM:+0300
TZOFFSETTO:+0200
TZNAME:EET
DTSTART:20241027T010000
END:STANDARD
END:VTIMEZONE
BEGIN:VEVENT
DTSTART;VALUE=DATE:20241026
DTEND;VALUE=DATE:20241104
DTSTAMP:20260423T002339
CREATED:20240929T152138Z
LAST-MODIFIED:20240929T160631Z
UID:49294-1729900800-1730678399@www.taunus4family.de
SUMMARY:Horror-Labyrinth im Maislabyrinth Liederbach 2024
DESCRIPTION:Nichts für schwache Nerven!\n\n  \nDAS HORROR-LABYRINTH  am 26.10. / 03.11. 2024 \nDu wirst sie erwarten\, du wirst sie hören und du wirst ihren Atem spüren – Der pure Horror erwartet dich. Kein Platz für Angsthasen. Überleg es dir also lieber zweimal\, ob du wirklich das Horror-Labyrinth betreten möchtest. \nNur die Tapfersten wagen sich in das Horror-Labyrinth Liederbach. Die Dunkelheit umhüllt euch\, während aus der Ferne das Dröhnen von Kettensägen und das Echo panischer Schreie zu hören sind. Der Adrenalinspiegel steigt\, die Spannung wächst – und plötzlich bricht Stille ein\, bis eine kräftige Hand euren Arm packt. Vorsicht ist geboten: Der Irrgarten aus Mais birgt die schaurigsten Kreaturen\, deren einziges Ziel es ist\, euch das Fürchten zu lehren! \nDas Horror-Labyrinth Liederbach gilt als eines der größten Halloween-Highlights im Rhein-Main-Gebiet und sorgt für pure Gänsehaut. Das umgestaltete\, riesige Maisfeld ist voller Monster\, die bei Dunkelheit alles daran setzen\, euch mit ihren schaurigen Tricks das Blut in den Adern gefrieren zu lassen. Perfektioniert wird das Erlebnis durch detailreich gestaltete Kulissen\, furchterregende Kostüme und eine außergewöhnliche Halloween-Party\, die die Nacht unvergesslich macht. \n  \nDAS GRUSEL-LABYRINTH mit verschiedenen Altersstufen am 27.10. & 03.11.2024 \nDas Horror-Labyrinth ist doch etwas viel für dich? Oder du möchtest uns mit deinen Kindern besuchen? Dann ist das Grusel-Labyrinth perfekt für euch. Hier geht es zwar auch gruselig zu\, aber immer mit Bedacht. Auch gibt es hier ein Codewort\, bei dem die Monster euch sofort in Ruhe lassen müssen. \nAuch außerhalb vom Labyrinth gibt es noch einiges zu entdecken \nNatürlich ist es mit dem Grusel-Labyrinth an diesem Tag nicht getan. Bei uns kannst du den an dem Tag noch viel mehr erleben. \nSchnapp dir einen Ball und bespiele unseren Fußball-Minigolf-Parcour\, renn über unsere Strohhüpfburg\, oder spiel auf unserem neuen Fußball-Billard. Das alles gibt es in Begleitung von leckeren Speisen\, sowie kalten und warmen Getränken. \nAber eins darf natürlich nicht fehlen: das Kürbisschnitzen! \n  \nHier geht’s zu den Tickets!
URL:https://www.taunus4family.de/veranstaltung/horror-labyrinth-im-maislabyrinth-liederbach-2024/
LOCATION:Maislabyrinth Liederbach\, Münsterer Weg 17\, Liederbach\, 65835\, Deutschland
CATEGORIES:Freizeit
ATTACH;FMTTYPE=image/jpeg:https://www.taunus4family.de/wp-content/uploads/2016/11/halloween-maedchen.jpg
ORGANIZER;CN="Maislabyrinth%20Liederbach":MAILTO:info@maislabyrinth-liederbach.de
GEO:50.11708;8.49163
X-APPLE-STRUCTURED-LOCATION;VALUE=URI;X-ADDRESS=Maislabyrinth Liederbach Münsterer Weg 17 Liederbach 65835 Deutschland;X-APPLE-RADIUS=500;X-TITLE=Münsterer Weg 17:geo:8.49163,50.11708
END:VEVENT
END:VCALENDAR