BEGIN:VCALENDAR
VERSION:2.0
PRODID:-//taunus4family - ECPv5.14.1//NONSGML v1.0//EN
CALSCALE:GREGORIAN
METHOD:PUBLISH
X-WR-CALNAME:taunus4family
X-ORIGINAL-URL:https://www.taunus4family.de
X-WR-CALDESC:Veranstaltungen für taunus4family
BEGIN:VTIMEZONE
TZID:Europe/Helsinki
BEGIN:DAYLIGHT
TZOFFSETFROM:+0200
TZOFFSETTO:+0300
TZNAME:EEST
DTSTART:20250330T010000
END:DAYLIGHT
BEGIN:STANDARD
TZOFFSETFROM:+0300
TZOFFSETTO:+0200
TZNAME:EET
DTSTART:20251026T010000
END:STANDARD
END:VTIMEZONE
BEGIN:VEVENT
DTSTART;VALUE=DATE:20250704
DTEND;VALUE=DATE:20250727
DTSTAMP:20260422T135727
CREATED:20250615T200928Z
LAST-MODIFIED:20250615T200928Z
UID:51227-1751587200-1753574399@www.taunus4family.de
SUMMARY:Improsommer 2025 - Geschichten aus dem Nichts
DESCRIPTION:Ein Sommer voller Spaß und Improvisation! Vom 04. bis 26. Juli spielen wir jeweils freitags und samstags feinstes Improtheater auf dem Neroberg. Jede:r ist willkommen! Während eurem Picknick im Grünen gibt es spannende\, kurzweilige Shows zu erleben. Und das Ganze Open Air über den Dächern Wiesbadens. 2021 hat die Stadt Wiesbaden den Improsommer mit dem Kulturpreis geehrt. \nAn diesem Nachmittag erleben unsere kleinen Gäste ein echtes Abenteuer. Egal ob mutige Prinzessin\, ängstlicher Drache oder komischer Kautz – wir reisen zusammen an verwunschene Orte unserer Phantasie und erzählen Geschichten einfach so. Aus dem Nichts. \nKeine Sitzplatzreservierung möglich. Karten gibt es an der Abendkasse vor Ort zu kaufen. Preis nach eigenem Ermessen. Wir empfehlen 9 Euro.
URL:https://www.taunus4family.de/veranstaltung/improsommer-2025-geschichten-aus-dem-nichts/
LOCATION:Erlebnismulde\, Neroberg Wiesbaden\, Neroberg 1\, Wiesbaden\, 65193\, Deutschland
CATEGORIES:Theater und Bühnen
ATTACH;FMTTYPE=image/jpeg:https://www.taunus4family.de/wp-content/uploads/2025/06/Kindershow_Fred.jpg
ORGANIZER;CN="Improvisationstheater%20%26quot%3BF%26uuml%3Br%20Garderobe%20keine%20Haftung%26quot%3B":MAILTO:info@fgkh.de
END:VEVENT
END:VCALENDAR