BEGIN:VCALENDAR
VERSION:2.0
PRODID:-//taunus4family - ECPv5.14.1//NONSGML v1.0//EN
CALSCALE:GREGORIAN
METHOD:PUBLISH
X-WR-CALNAME:taunus4family
X-ORIGINAL-URL:https://www.taunus4family.de
X-WR-CALDESC:Veranstaltungen für taunus4family
BEGIN:VTIMEZONE
TZID:Europe/Helsinki
BEGIN:DAYLIGHT
TZOFFSETFROM:+0200
TZOFFSETTO:+0300
TZNAME:EEST
DTSTART:20250330T010000
END:DAYLIGHT
BEGIN:STANDARD
TZOFFSETFROM:+0300
TZOFFSETTO:+0200
TZNAME:EET
DTSTART:20251026T010000
END:STANDARD
END:VTIMEZONE
BEGIN:VEVENT
DTSTART;TZID=Europe/Helsinki:20250622T140000
DTEND;TZID=Europe/Helsinki:20250622T150000
DTSTAMP:20260422T164702
CREATED:20250605T164403Z
LAST-MODIFIED:20250605T164504Z
UID:51207-1750600800-1750604400@www.taunus4family.de
SUMMARY:Jazz for Kids - Matz mit der blauen Tatze
DESCRIPTION:„Gemeinsam macht alles gleich doppelt so viel Spaß!“\, meint Kater Matze. Die „Groovy Mitze Matze mit der blauen Tatze Jazz Band“ sieht das genauso. Mitreißend und voller Schwung groovt sie durch alle Tonarten – von A nach B\, von Dur nach Moll\, von lässig bis lebendig. Und am allerliebsten live auf der Bühne! \nInteraktives Jazzkonzert\nDie Matze-Kinder-Konzerte bringen Jazz auf charmante Weise näher – für kleine und große Zuhörer:innen. Im Mittelpunkt steht Kater Matze mit seiner blauen Tatze. Er ist anders als die anderen: Er humpelt ein wenig\, und aus seiner Tatze kullern Blue Notes. Anfangs wird er dafür ausgelacht\, doch genau diese Besonderheit macht ihn einzigartig – und führt ihn zu echten Freunden. Mit Leichtigkeit und Humor erzählen die Konzerte Geschichten über Mut\, Anderssein und Zusammenhalt – und vermitteln dabei wichtige Werte wie Freundschaft und Toleranz. \n\n\n\n\nFür Kinder ab 5 Jahren.\n\nTickets ab 20 EUR hier!
URL:https://www.taunus4family.de/veranstaltung/jazz-for-kids-matz-mit-der-blauen-tatze/
LOCATION:Casals Forum Kronberg\, Beethovenpl. 1\, Carl Bechstein Saal\, Kronberg im Taunus\, 61476\, Deutschland
CATEGORIES:Musik und Konzerte
ATTACH;FMTTYPE=image/jpeg:https://www.taunus4family.de/wp-content/uploads/2025/06/Mareile-Zuercher-Jazz-for-kids.jpg
ORGANIZER;CN="Kronberg%20Academy%20Stiftung":MAILTO:stiftung@kronbergacademy.de
GEO:50.1803984;8.5152277
X-APPLE-STRUCTURED-LOCATION;VALUE=URI;X-ADDRESS=Casals Forum Kronberg Beethovenpl. 1 Carl Bechstein Saal Kronberg im Taunus 61476 Deutschland;X-APPLE-RADIUS=500;X-TITLE=Beethovenpl. 1\, Carl Bechstein Saal:geo:8.5152277,50.1803984
END:VEVENT
END:VCALENDAR