BEGIN:VCALENDAR
VERSION:2.0
PRODID:-//taunus4family - ECPv5.14.1//NONSGML v1.0//EN
CALSCALE:GREGORIAN
METHOD:PUBLISH
X-WR-CALNAME:taunus4family
X-ORIGINAL-URL:https://www.taunus4family.de
X-WR-CALDESC:Veranstaltungen für taunus4family
BEGIN:VTIMEZONE
TZID:Europe/Helsinki
BEGIN:DAYLIGHT
TZOFFSETFROM:+0200
TZOFFSETTO:+0300
TZNAME:EEST
DTSTART:20250330T010000
END:DAYLIGHT
BEGIN:STANDARD
TZOFFSETFROM:+0300
TZOFFSETTO:+0200
TZNAME:EET
DTSTART:20251026T010000
END:STANDARD
END:VTIMEZONE
BEGIN:VEVENT
DTSTART;VALUE=DATE:20250315
DTEND;VALUE=DATE:20250428
DTSTAMP:20260422T214631
CREATED:20250313T061240Z
LAST-MODIFIED:20250313T091228Z
UID:50518-1741996800-1745798399@www.taunus4family.de
SUMMARY:Junges Staatstheater rockt mit dem Musical 'Fack ju Göthe'
DESCRIPTION:Der Kino-Hit als Musical!\nAuf der Tafel prangt ein riesiger Penis\, daneben „Banger“. Willkommen im Brennpunkt-Klassenzimmer! Zwei Gitterzäune rahmen die Szenerie\, das Licht geht aus\, Spot an: Ex-Knacki Zeki Müller (Tim Speckhardt) wird entlassen. Statt Gefängnisoverall jetzt Lederjacke und Sonnenbrille – sein Ziel: eine Tasche voller Geld. Blöd nur\, dass die Baustelle\, wo sie vergraben war\, inzwischen eine Turnhalle ist. Und sein Gläubiger macht Druck. \nWie es weitergeht? Klar\, den Kinohit kennt jeder. Doch Regisseurin Iris Limbarth bringt die Story mit Tempo und Charme auf die kleine Bühne der Wartburg. Britta Lammers’ Bühnenbild wechselt kreativ zwischen Klassenzimmer\, Bordell und Schwimmbad. Ein paar blaue Blöcke – zack\, Pool! Pappkartons – Turnhalle! Die Tafel wird zur Table-Dance-Bar. \nTempo\, Kraftausdrücke und Witz\nErstmals hat ein Theater die Rechte für die Musicalfassung erhalten – und Wiesbaden nutzt die Chance. Hohe Dynamik\, knackige Szenenwechsel\, basslastige Popsongs\, Rap-Beats – die Band unter Frank Bangert treibt das Tempo an\, die Choreos sitzen. Spaß pur! \nDie markanten Sprüche sitzen („Chantal\, heul leise!“) und das Spiel der Darsteller überzeugt. Katharina Schmitz ist grandios als Chantal – zwischen schrill geschminktem Dummchen und verletztem Mädchen mit schwerem Elternhaus. Jan Volperts Danger taut langsam auf\, Luna Langes schrägsympathische Schulleiterin klebt an ihrem Klebestift\, und Elena Leitners Lisi Schnabelstedt bleibt die idealistische Lehrerin mit Herz. \nFinale: Die Klasse schafft den Sprung in die Oberstufe und schlägt mit einer wilden „Romeo und Julia“-Version das Elitegymnasium. Drei Stunden voller Tempo\, Emotion und fetziger Musik – das Publikum feiert zu Recht mit Ovationen! \nMehr Info hier!
URL:https://www.taunus4family.de/veranstaltung/junges-staatsmsical-rockt-mit-dem-musical-fack-ju-goethe/
LOCATION:Hessische Staatstheater Wiesbaden\, Christian-Zais-Str. 3\, Wiesbaden\, 65189\, Deutschland
CATEGORIES:Theater und Bühnen
ATTACH;FMTTYPE=image/jpeg:https://www.taunus4family.de/wp-content/uploads/2025/03/Screenshot-2025-03-13-065916.jpg
GEO:50.083797;8.2458344
X-APPLE-STRUCTURED-LOCATION;VALUE=URI;X-ADDRESS=Hessische Staatstheater Wiesbaden Christian-Zais-Str. 3 Wiesbaden 65189 Deutschland;X-APPLE-RADIUS=500;X-TITLE=Christian-Zais-Str. 3:geo:8.2458344,50.083797
END:VEVENT
END:VCALENDAR