BEGIN:VCALENDAR
VERSION:2.0
PRODID:-//taunus4family - ECPv5.14.1//NONSGML v1.0//EN
CALSCALE:GREGORIAN
METHOD:PUBLISH
X-WR-CALNAME:taunus4family
X-ORIGINAL-URL:https://www.taunus4family.de
X-WR-CALDESC:Veranstaltungen für taunus4family
BEGIN:VTIMEZONE
TZID:Europe/Helsinki
BEGIN:DAYLIGHT
TZOFFSETFROM:+0200
TZOFFSETTO:+0300
TZNAME:EEST
DTSTART:20240331T010000
END:DAYLIGHT
BEGIN:STANDARD
TZOFFSETFROM:+0300
TZOFFSETTO:+0200
TZNAME:EET
DTSTART:20241027T010000
END:STANDARD
END:VTIMEZONE
BEGIN:VEVENT
DTSTART;TZID=Europe/Helsinki:20241208T140000
DTEND;TZID=Europe/Helsinki:20241208T150000
DTSTAMP:20260423T205757
CREATED:20241103T123603Z
LAST-MODIFIED:20241103T123825Z
UID:49619-1733666400-1733670000@www.taunus4family.de
SUMMARY:Kasperl und der kleine Weihnachtshund Hubsi
DESCRIPTION:Die Geschichte\, die der Kasperl erzählt\, ist inspiriert von der Weihnachtsgeschichte\, wie sie der Evangelist Lukas überliefert hat (Lukas 2.1). \nEine herzige Weihnachtsgeschichte frei nach dem Lukasevangelium\nDer kleine Hund Hubsi wird von seinem Herrn\, dem Zauberer\, unsanft aus dem Zauberschloss geworfen\, weil er angeblich zu viel schläft\, zu viel frisst und viel zu freundlich ist. So ist für ihn kein Platz mehr im Schloss. Traurig macht sich Hubsi auf den Weg durch den Zauberwald\, verzweifelt auf der Suche nach einem neuen Zuhause oder zumindest einem warmen Schlafplatz. Dabei muss er sich mit Mühe vor der Hexe und dem Räuber in Sicherheit bringen. Erschöpft und allein schläft er schließlich auf dem Waldboden ein\, bis Kasperl ihn entdeckt und mit zur Großmutter nimmt. Da Hubsi es sich wünscht\, schenken Kasperl und Seppel ihn der Großmutter zu Weihnachten. Sie freut sich riesig über ihr neues Haustier\, denn sie hat sich schon lange einen Hund für Spaziergänge gewünscht. Gemeinsam beschließen sie\, ein fröhliches Weihnachtsfest zu feiern. \nSo erlebt das jüngste Publikum eine herzerwärmende und stimmungsvolle Geschichte\, die perfekt in die Vorweihnachtszeit einstimmt. \n(Die Anfahrt zur Villa Wertheimber erfolgt über den Mariannenweg.) \n  \nEintritt\nKinder 9 Euro\, Erwachsene 11 Euro\n\nTickets im Verkauf \nbei Tourist Info im Kurhaus\nTel. 06172- 178 3710
URL:https://www.taunus4family.de/veranstaltung/kasperl-und-der-kleine-weihnachtshund-hubsi/
LOCATION:Villa Wertheimber\, Tannenwaldallee 50\, Bad Homburg\, 61348\, Deutschland
CATEGORIES:Theater und Bühnen
ATTACH;FMTTYPE=image/jpeg:https://www.taunus4family.de/wp-content/uploads/2024/11/Screenshot-2024-11-03-132942.jpg
ORGANIZER;CN="Kasperl-Kompanie":MAILTO:info@kasperl-kompanie.de
END:VEVENT
END:VCALENDAR