BEGIN:VCALENDAR
VERSION:2.0
PRODID:-//taunus4family - ECPv5.14.1//NONSGML v1.0//EN
CALSCALE:GREGORIAN
METHOD:PUBLISH
X-WR-CALNAME:taunus4family
X-ORIGINAL-URL:https://www.taunus4family.de
X-WR-CALDESC:Veranstaltungen für taunus4family
BEGIN:VTIMEZONE
TZID:Europe/Helsinki
BEGIN:DAYLIGHT
TZOFFSETFROM:+0200
TZOFFSETTO:+0300
TZNAME:EEST
DTSTART:20240331T010000
END:DAYLIGHT
BEGIN:STANDARD
TZOFFSETFROM:+0300
TZOFFSETTO:+0200
TZNAME:EET
DTSTART:20241027T010000
END:STANDARD
END:VTIMEZONE
BEGIN:VEVENT
DTSTART;VALUE=DATE:20240809
DTEND;VALUE=DATE:20240812
DTSTAMP:20260424T212226
CREATED:20240726T151740Z
LAST-MODIFIED:20240726T151843Z
UID:48769-1723161600-1723420799@www.taunus4family.de
SUMMARY:Kerb Bommersheim 2024
DESCRIPTION:Die „Raubritter“-Kerb findet jährlich am dritten August Wochenende auf dem Parkplatz „Im Himmrich“ statt.  \nDie Kerbeburschen sorgen für ein attraktives Programm. Für Speis und Trank ist ebenfalls gesorgt. \nWeitere Termine\nSamstag\, 10. August 2024\nSonntag\, 11. August 2024
URL:https://www.taunus4family.de/veranstaltung/kerb-bommersheim-2024/
LOCATION:Vor der Burgwiesenhalle\, Im Himmrich\, Oberursel (Taunus)-Bommersheim\, 61440
CATEGORIES:Feste und Märkte
ATTACH;FMTTYPE=image/jpeg:https://www.taunus4family.de/wp-content/uploads/2019/06/ksena32-Fotolia-e1631693290508.jpg
ORGANIZER;CN="Kerbeborsche-Bommersheim%20e.%20V.":MAILTO:Info@Kerbeborsche-Bommersheim.de
GEO:50.1993242;8.6034825
X-APPLE-STRUCTURED-LOCATION;VALUE=URI;X-ADDRESS=Vor der Burgwiesenhalle Im Himmrich Oberursel (Taunus)-Bommersheim 61440;X-APPLE-RADIUS=500;X-TITLE=Im Himmrich:geo:8.6034825,50.1993242
END:VEVENT
END:VCALENDAR