BEGIN:VCALENDAR
VERSION:2.0
PRODID:-//taunus4family - ECPv5.14.1//NONSGML v1.0//EN
CALSCALE:GREGORIAN
METHOD:PUBLISH
X-WR-CALNAME:taunus4family
X-ORIGINAL-URL:https://www.taunus4family.de
X-WR-CALDESC:Veranstaltungen für taunus4family
BEGIN:VTIMEZONE
TZID:Europe/Helsinki
BEGIN:DAYLIGHT
TZOFFSETFROM:+0200
TZOFFSETTO:+0300
TZNAME:EEST
DTSTART:20250330T010000
END:DAYLIGHT
BEGIN:STANDARD
TZOFFSETFROM:+0300
TZOFFSETTO:+0200
TZNAME:EET
DTSTART:20251026T010000
END:STANDARD
END:VTIMEZONE
BEGIN:VEVENT
DTSTART;TZID=Europe/Helsinki:20250227T000000
DTEND;TZID=Europe/Helsinki:20250304T220000
DTSTAMP:20260423T143843
CREATED:20250206T061003Z
LAST-MODIFIED:20250206T061003Z
UID:50056-1740614400-1741125600@www.taunus4family.de
SUMMARY:Kibaza online Kinderbasar
DESCRIPTION:Wir veranstalten wieder unseren Kibaza online Basar rund ums Kind! \nAnmelden und auch einstellen der Artikel jetzt schon möglich. Bequem und einfach von zu Hause! \nWichtige Termine : \n– Artikel einstellen ab sofort\n– Verkauf / Einkauf vom 27.02.-04.03.\n– Abgabe der verkauften Artikel 07.03.\n-Abholung der gekauften Ware sowie Auszahlung 08.03. \nUhrzeiten findet ihr auf unsere Seite bei Kibaza. Bitte prüft vorab ob die Termine passen. \nAnmeldung unter : https://www.kibaza.de/kiz96 \nBei Fragen stehen wir euch gern unter Basar-kt96@gmx.de zur Verfügung.
URL:https://www.taunus4family.de/veranstaltung/kibaza-online-kinderbasar/
LOCATION:kiz96\, In den Schafgärten 23\, Frankfurt\, 60437
CATEGORIES:Basare und Flohmärkte
ATTACH;FMTTYPE=image/jpeg:https://www.taunus4family.de/wp-content/uploads/2025/01/42085501-7abf-431d-b26c-8dd4c04381c9.jpeg
ORGANIZER;CN="Elternbeirat%20KiZ96":MAILTO:Basar-kt96@gmx.de
END:VEVENT
END:VCALENDAR