BEGIN:VCALENDAR
VERSION:2.0
PRODID:-//taunus4family - ECPv5.14.1//NONSGML v1.0//EN
CALSCALE:GREGORIAN
METHOD:PUBLISH
X-WR-CALNAME:taunus4family
X-ORIGINAL-URL:https://www.taunus4family.de
X-WR-CALDESC:Veranstaltungen für taunus4family
BEGIN:VTIMEZONE
TZID:Europe/Helsinki
BEGIN:DAYLIGHT
TZOFFSETFROM:+0200
TZOFFSETTO:+0300
TZNAME:EEST
DTSTART:20240331T010000
END:DAYLIGHT
BEGIN:STANDARD
TZOFFSETFROM:+0300
TZOFFSETTO:+0200
TZNAME:EET
DTSTART:20241027T010000
END:STANDARD
END:VTIMEZONE
BEGIN:VEVENT
DTSTART;TZID=Europe/Helsinki:20240309T140000
DTEND;TZID=Europe/Helsinki:20240309T163000
DTSTAMP:20260420T092247
CREATED:20240210T104708Z
LAST-MODIFIED:20240210T104708Z
UID:47331-1709992800-1710001800@www.taunus4family.de
SUMMARY:KiJuBa – Kinder- und Jugendsachenbasar
DESCRIPTION:SORTIERBASAR. Kinderkleidung\, Erstlingsaustattung\, Keidung für Jugendliche\, Schuhe\, Sportkleidung\, Kinderwagen\, Spielzeug\, Bücher\, …\nVorverkauf (mit MuPa) für Schwangere und für Eltern mit Babies bis 6 Mon. 11 – 12 Uhr\nhttps://freidenskirche-schwalbach.de/kijuba
URL:https://www.taunus4family.de/veranstaltung/kijuba-kinder-und-jugendsachenbasar/
LOCATION:Ev. Friedenskirchengemeinde\, Bahnstr. 13\, 65824 Schwalbach\, Bahnstr. 13\, Schwalbach a. Ts.\, 65824
CATEGORIES:Basare und Flohmärkte
ATTACH;FMTTYPE=image/jpeg:https://www.taunus4family.de/wp-content/uploads/2019/08/iStock-nedjelly.jpg
ORGANIZER;CN="Evangelische%20Friedenskirchengemeinde":MAILTO:kisaba.friedenskirche@mindthegaps.com
GEO:50.15099;8.54055
X-APPLE-STRUCTURED-LOCATION;VALUE=URI;X-ADDRESS=Ev. Friedenskirchengemeinde Bahnstr. 13 65824 Schwalbach Bahnstr. 13 Schwalbach a. Ts. 65824;X-APPLE-RADIUS=500;X-TITLE=Bahnstr. 13:geo:8.54055,50.15099
END:VEVENT
END:VCALENDAR