BEGIN:VCALENDAR
VERSION:2.0
PRODID:-//taunus4family - ECPv5.14.1//NONSGML v1.0//EN
CALSCALE:GREGORIAN
METHOD:PUBLISH
X-WR-CALNAME:taunus4family
X-ORIGINAL-URL:https://www.taunus4family.de
X-WR-CALDESC:Veranstaltungen für taunus4family
BEGIN:VTIMEZONE
TZID:Europe/Helsinki
BEGIN:DAYLIGHT
TZOFFSETFROM:+0200
TZOFFSETTO:+0300
TZNAME:EEST
DTSTART:20250330T010000
END:DAYLIGHT
BEGIN:STANDARD
TZOFFSETFROM:+0300
TZOFFSETTO:+0200
TZNAME:EET
DTSTART:20251026T010000
END:STANDARD
END:VTIMEZONE
BEGIN:VEVENT
DTSTART;TZID=Europe/Helsinki:20250208T140000
DTEND;TZID=Europe/Helsinki:20250208T160000
DTSTAMP:20260424T185056
CREATED:20250113T060919Z
LAST-MODIFIED:20250113T060919Z
UID:49913-1739023200-1739030400@www.taunus4family.de
SUMMARY:Kinder-Kram-Basar
DESCRIPTION:Kinder-Kram-Basar für Frühjahrs-/Sommerkleidung und alles rund ums Kind.\nAm 08.02.2025 von 14:00 – 16:00 Uhr findet wieder unser sehr beliebter Abgabebasar für hochwertige Frühjahrs- u. Sommerkleidung in den Größen 50 – 182 statt. Verkauft werden außerdem auch Schuhe\, Spielsachen\, Bücher\, Kleinmöbel\, Fahrräder und alles rund ums Baby und Kind.\nSchwangere mit einer Begleitperson erhalten bereits ab 13:00 Uhr Einlass.\nFür das leibliche Wohl ist ein großes Kuchenbuffet mit selbstgebackenem Kuchen vorhanden.\nEs gibt einen großen Außenbereich zum Verweilen.\nInteressierte Verkäufer können sich gerne unter https://basarlino.de/HU30 ab sofort für eine Verkaufsnummer anmelden. Die Verkaufsnummern sind begrenzt. Die Vergabe erfolgt nach Eingang der Anmeldung und muss von uns bestätigt werden.\nWir freuen uns auf Euren Besuch.
URL:https://www.taunus4family.de/veranstaltung/kinder-kram-basar-4/
LOCATION:Ev. Gemeindehaus Bad Soden-Neuenhain
CATEGORIES:Basare und Flohmärkte
ATTACH;FMTTYPE=image/jpeg:https://www.taunus4family.de/wp-content/uploads/2020/01/iStock-STUDIOGRANDOUEST.jpg
ORGANIZER;CN="Eltern4Kids%20Neuenhain%20e.V.":MAILTO:Basar-neuenhain@gmx.de
END:VEVENT
END:VCALENDAR