BEGIN:VCALENDAR
VERSION:2.0
PRODID:-//taunus4family - ECPv5.14.1//NONSGML v1.0//EN
CALSCALE:GREGORIAN
METHOD:PUBLISH
X-WR-CALNAME:taunus4family
X-ORIGINAL-URL:https://www.taunus4family.de
X-WR-CALDESC:Veranstaltungen für taunus4family
BEGIN:VTIMEZONE
TZID:Europe/Helsinki
BEGIN:DAYLIGHT
TZOFFSETFROM:+0200
TZOFFSETTO:+0300
TZNAME:EEST
DTSTART:20250330T010000
END:DAYLIGHT
BEGIN:STANDARD
TZOFFSETFROM:+0300
TZOFFSETTO:+0200
TZNAME:EET
DTSTART:20251026T010000
END:STANDARD
END:VTIMEZONE
BEGIN:VEVENT
DTSTART;TZID=Europe/Helsinki:20250913T140000
DTEND;TZID=Europe/Helsinki:20250913T160000
DTSTAMP:20260422T083940
CREATED:20250826T070845Z
LAST-MODIFIED:20250826T070845Z
UID:51923-1757772000-1757779200@www.taunus4family.de
SUMMARY:Kinder-Kram-Basar
DESCRIPTION:Kinder-Kram-Basar für Herbst-/Winterkleidung und alles rund ums Kind. \nAm 13.09.2025 findet wieder unser sehr beliebter Abgabebasar für schöne Herbst- u. Winterkleidung in den Größen 50 – 182 statt. Verkauft werden außerdem auch Schuhe\, Spielsachen\, Bücher\, Kleinmöbel\, Fahrräder und alles rund ums Baby und Kind.\nEinlass für Schwangere mit MP und eine weitere Begleitperson ab 13:00 Uhr.\nFür das leibliche Wohl ist ein großes Kuchenbuffet mit selbstgebackenem Kuchen und Hot Dogs vorhanden.\nEs gibt einen großen Außenbereich zum Verweilen.\nWir freuen uns auf Euren Besuch.\nEltern4Kids Neuenhain e.V.
URL:https://www.taunus4family.de/veranstaltung/kinder-kram-basar-5/
LOCATION:Herrngasse 7\, 65812 Bad Soden\, Herrngasse 7\, Bad Soden/Neuenhain\, 65812
CATEGORIES:Basare und Flohmärkte
ATTACH;FMTTYPE=image/jpeg:https://www.taunus4family.de/wp-content/uploads/2025/08/iStock-ArminStautBerlin.jpg
ORGANIZER;CN="Eltern4Kids%20Neuenhain%20e.V.":MAILTO:Basar-neuenhain@gmx.de
GEO:50.1559182;8.4911066
X-APPLE-STRUCTURED-LOCATION;VALUE=URI;X-ADDRESS=Herrngasse 7 65812 Bad Soden Herrngasse 7 Bad Soden/Neuenhain 65812;X-APPLE-RADIUS=500;X-TITLE=Herrngasse 7:geo:8.4911066,50.1559182
END:VEVENT
END:VCALENDAR